BEGIN:VCALENDAR
VERSION:2.0
PRODID:-//LFG TONIGHT - HULL - ECPv6.9.0//NONSGML v1.0//EN
CALSCALE:GREGORIAN
METHOD:PUBLISH
X-ORIGINAL-URL:https://lfgtonight.com
X-WR-CALDESC:Events for LFG TONIGHT - HULL
REFRESH-INTERVAL;VALUE=DURATION:PT1H
X-Robots-Tag:noindex
X-PUBLISHED-TTL:PT1H
BEGIN:VTIMEZONE
TZID:America/New_York
BEGIN:DAYLIGHT
TZOFFSETFROM:-0500
TZOFFSETTO:-0400
TZNAME:EDT
DTSTART:20260308T070000
END:DAYLIGHT
BEGIN:STANDARD
TZOFFSETFROM:-0400
TZOFFSETTO:-0500
TZNAME:EST
DTSTART:20261101T060000
END:STANDARD
END:VTIMEZONE
BEGIN:VEVENT
DTSTART;TZID=America/New_York:20260305T190000
DTEND;TZID=America/New_York:20260305T200000
DTSTAMP:20260419T114445
CREATED:20241105T201509Z
LAST-MODIFIED:20260210T145256Z
UID:125-1772737200-1772740800@lfgtonight.com
SUMMARY:Trivia Night - Every Thursday at the SandBar
DESCRIPTION:Trivia night is every Thursday from 7-8pm with Mike from Wicked Trivia!
URL:https://lfgtonight.com/event/trivia-night-at-the-sandbar-6/
LOCATION:Sand Bar\, 297 Nantasket Ave\, Hull\, MA\, 02045\, United States
CATEGORIES:Family Fun,Nightlife,Party
ATTACH;FMTTYPE=image/jpeg:https://tectolabs-web-assets.s3.us-east-2.amazonaws.com/lfgtonight_com/2025/03/19165111/sandbar-trivia-new.jpg
END:VEVENT
END:VCALENDAR