BEGIN:VCALENDAR
VERSION:2.0
PRODID:-//LFG TONIGHT - HULL - ECPv6.9.0//NONSGML v1.0//EN
CALSCALE:GREGORIAN
METHOD:PUBLISH
X-WR-CALNAME:LFG TONIGHT - HULL
X-ORIGINAL-URL:https://lfgtonight.com
X-WR-CALDESC:Events for LFG TONIGHT - HULL
REFRESH-INTERVAL;VALUE=DURATION:PT1H
X-Robots-Tag:noindex
X-PUBLISHED-TTL:PT1H
BEGIN:VTIMEZONE
TZID:America/New_York
BEGIN:DAYLIGHT
TZOFFSETFROM:-0500
TZOFFSETTO:-0400
TZNAME:EDT
DTSTART:20260308T070000
END:DAYLIGHT
BEGIN:STANDARD
TZOFFSETFROM:-0400
TZOFFSETTO:-0500
TZNAME:EST
DTSTART:20261101T060000
END:STANDARD
END:VTIMEZONE
BEGIN:VEVENT
DTSTART;TZID=America/New_York:20260228T190000
DTEND;TZID=America/New_York:20260228T210000
DTSTAMP:20260419T101831
CREATED:20250317T123129Z
LAST-MODIFIED:20260220T163453Z
UID:1317-1772305200-1772312400@lfgtonight.com
SUMMARY:Joe Capen Performs Live
DESCRIPTION:Hull’s own singer\, song-writer and acoustic guitar player Joe Capen will be performing a mix of his original songs and some popular tunes. Join us for a spectacular night of covers you love and originals you’ll remember 😎🤙🏼
URL:https://lfgtonight.com/event/joe-capen-performs-live/
LOCATION:California Underground\, 257 Nantasket Ave\, Hull\, MA\, 02045\, United States
CATEGORIES:live music,Nightlife
ATTACH;FMTTYPE=image/jpeg:https://tectolabs-web-assets.s3.us-east-2.amazonaws.com/lfgtonight_com/2025/03/20163431/638897858_1666394634778820_6056991602745183341_n.jpg
END:VEVENT
END:VCALENDAR