BEGIN:VCALENDAR
VERSION:2.0
PRODID:-//LFG TONIGHT - HULL - ECPv6.9.0//NONSGML v1.0//EN
CALSCALE:GREGORIAN
METHOD:PUBLISH
X-WR-CALNAME:LFG TONIGHT - HULL
X-ORIGINAL-URL:https://lfgtonight.com
X-WR-CALDESC:Events for LFG TONIGHT - HULL
REFRESH-INTERVAL;VALUE=DURATION:PT1H
X-Robots-Tag:noindex
X-PUBLISHED-TTL:PT1H
BEGIN:VTIMEZONE
TZID:America/New_York
BEGIN:DAYLIGHT
TZOFFSETFROM:-0500
TZOFFSETTO:-0400
TZNAME:EDT
DTSTART:20240310T070000
END:DAYLIGHT
BEGIN:STANDARD
TZOFFSETFROM:-0400
TZOFFSETTO:-0500
TZNAME:EST
DTSTART:20241103T060000
END:STANDARD
END:VTIMEZONE
BEGIN:VEVENT
DTSTART;TZID=America/New_York:20241211T180000
DTEND;TZID=America/New_York:20241211T220000
DTSTAMP:20260420T085657
CREATED:20241203T170022Z
LAST-MODIFIED:20241203T170022Z
UID:378-1733940000-1733954400@lfgtonight.com
SUMMARY:Karaoke with Paul O - No Cover (Every Wed.)
DESCRIPTION:KARAOKE with PAUL Q NO COVER CHARGE: 6-10pm
URL:https://lfgtonight.com/event/karaoke-with-paul-o-no-cover-every-wed/
LOCATION:C Note\, 159 Nantasket Aveneu\, Hull\, MA\, 02045\, United States
CATEGORIES:Nightlife
END:VEVENT
BEGIN:VEVENT
DTSTART;TZID=America/New_York:20241218T180000
DTEND;TZID=America/New_York:20241218T220000
DTSTAMP:20260420T085657
CREATED:20241203T170023Z
LAST-MODIFIED:20241203T170023Z
UID:379-1734544800-1734559200@lfgtonight.com
SUMMARY:Karaoke with Paul O - No Cover (Every Wed.)
DESCRIPTION:KARAOKE with PAUL Q NO COVER CHARGE: 6-10pm
URL:https://lfgtonight.com/event/karaoke-with-paul-o-no-cover-every-wed-2/
LOCATION:C Note\, 159 Nantasket Aveneu\, Hull\, MA\, 02045\, United States
CATEGORIES:Nightlife
END:VEVENT
BEGIN:VEVENT
DTSTART;TZID=America/New_York:20241221T200000
DTEND;TZID=America/New_York:20241222T010000
DTSTAMP:20260420T085657
CREATED:20241211T215336Z
LAST-MODIFIED:20241211T215336Z
UID:426-1734811200-1734829200@lfgtonight.com
SUMMARY:Ugly Sweater Party w/ DJ Dan
DESCRIPTION:The recent Saturday night old-school party was successful\, so DJ Dan is being brought back to do it all again. All of your favorite tunes from the past. Wear your favorite ugly Christmas sweaters for a lot of laughs.
URL:https://lfgtonight.com/event/ugly-sweater-party-w-dj-dan/
LOCATION:The Parrot\, 1 Hull Shore Drive\, Hull\, MA\, 02045\, United States
CATEGORIES:Nightlife
ATTACH;FMTTYPE=image/jpeg:https://tectolabs-web-assets.s3.us-east-2.amazonaws.com/lfgtonight_com/2024/12/11010059/the-parrot.jpg
END:VEVENT
END:VCALENDAR