BEGIN:VCALENDAR
VERSION:2.0
PRODID:-//LFG TONIGHT - HULL - ECPv6.9.0//NONSGML v1.0//EN
CALSCALE:GREGORIAN
METHOD:PUBLISH
X-ORIGINAL-URL:https://lfgtonight.com
X-WR-CALDESC:Events for LFG TONIGHT - HULL
REFRESH-INTERVAL;VALUE=DURATION:PT1H
X-Robots-Tag:noindex
X-PUBLISHED-TTL:PT1H
BEGIN:VTIMEZONE
TZID:America/New_York
BEGIN:DAYLIGHT
TZOFFSETFROM:-0500
TZOFFSETTO:-0400
TZNAME:EDT
DTSTART:20250309T070000
END:DAYLIGHT
BEGIN:STANDARD
TZOFFSETFROM:-0400
TZOFFSETTO:-0500
TZNAME:EST
DTSTART:20251102T060000
END:STANDARD
END:VTIMEZONE
BEGIN:VEVENT
DTSTART;TZID=America/New_York:20250720T173000
DTEND;TZID=America/New_York:20250720T203000
DTSTAMP:20260419T233834
CREATED:20250624T133437Z
LAST-MODIFIED:20250716T150931Z
UID:2467-1753032600-1753043400@lfgtonight.com
SUMMARY:Chase Stebbins - Live music at the Drift!
DESCRIPTION:We hope you’re all soaking up every drop of summer and making every sunset count! \nThis week at the Drift we have some incredible performers coming through! \nTHIS WEEKS LINE UP: \n•TUESDAY 7/15 @samlukechase\n•WEDNESDAY 7/16 PD Rogers\n•THURSDAY 7/17 @steve_rondo\n•FRIDAY 7/18 @ryanfaraday1\n•SATURDAY 7/19 @aldouscollins\n•SUNDAY 7/20 @chasesmusic featuring Megan & Brian \n✨All music starts at 5:30pm\, no cover\, plenty of free parking!
URL:https://lfgtonight.com/event/live-music-at-the-drift-2/
LOCATION:the drift\, 48 George Washington Boulevard\, Hull\, MA\, 02045\, United States
CATEGORIES:live music
ATTACH;FMTTYPE=image/jpeg:https://tectolabs-web-assets.s3.us-east-2.amazonaws.com/lfgtonight_com/2025/06/16150542/519865160_18061609247266488_1876602107681757896_n.jpg
END:VEVENT
END:VCALENDAR