BEGIN:VCALENDAR
VERSION:2.0
PRODID:-//LFG TONIGHT - HULL - ECPv6.9.0//NONSGML v1.0//EN
CALSCALE:GREGORIAN
METHOD:PUBLISH
X-WR-CALNAME:LFG TONIGHT - HULL
X-ORIGINAL-URL:https://lfgtonight.com
X-WR-CALDESC:Events for LFG TONIGHT - HULL
REFRESH-INTERVAL;VALUE=DURATION:PT1H
X-Robots-Tag:noindex
X-PUBLISHED-TTL:PT1H
BEGIN:VTIMEZONE
TZID:America/New_York
BEGIN:DAYLIGHT
TZOFFSETFROM:-0500
TZOFFSETTO:-0400
TZNAME:EDT
DTSTART:20260308T070000
END:DAYLIGHT
BEGIN:STANDARD
TZOFFSETFROM:-0400
TZOFFSETTO:-0500
TZNAME:EST
DTSTART:20261101T060000
END:STANDARD
END:VTIMEZONE
BEGIN:VEVENT
DTSTART;TZID=America/New_York:20260302T183000
DTEND;TZID=America/New_York:20260302T200000
DTSTAMP:20260419T081146
CREATED:20250321T182538Z
LAST-MODIFIED:20260210T145127Z
UID:1350-1772476200-1772481600@lfgtonight.com
SUMMARY:Beginner Country Line Dancing -Every Monday
DESCRIPTION:Join us every Monday night until the summer starts! Just a $5 contribution to the instructor.
URL:https://lfgtonight.com/event/beginner-country-line-dancing-every-monday-8/
LOCATION:Daddy’s Beach Club\, Hull\, MA
CATEGORIES:Family Fun,Nightlife
ATTACH;FMTTYPE=image/jpeg:https://tectolabs-web-assets.s3.us-east-2.amazonaws.com/lfgtonight_com/2025/03/21182210/line-dancing.jpg
END:VEVENT
BEGIN:VEVENT
DTSTART;TZID=America/New_York:20260305T190000
DTEND;TZID=America/New_York:20260305T210000
DTSTAMP:20260419T081146
CREATED:20260209T182047Z
LAST-MODIFIED:20260303T195934Z
UID:4767-1772737200-1772744400@lfgtonight.com
SUMMARY:[SOLD OUT] Second Annual Left Right Center Tournament to Benefit Coastal Cat Rescue
DESCRIPTION:Join us for a night of fun playing Left-Right-Center at Boathouse Bistro.  DJ Paul Corwin from NIWROC Entertainment returns as MC.  There will be prizes\, a Lottery Board Raffle and some delicious food provided by Boathouse Bistro.  $25 donation in advance.  $30 at the door.
URL:https://lfgtonight.com/event/second-annual-left-right-center-tournament-to-benefit-coastal-cat-rescue/
LOCATION:Boathouse Bistro\, Hull\, MA\, 02045\, United States
CATEGORIES:Family Fun,Party
ATTACH;FMTTYPE=image/jpeg:https://tectolabs-web-assets.s3.us-east-2.amazonaws.com/lfgtonight_com/2026/02/08170529/623551088_122218203848284512_3926873888117337767_n.jpg
ORGANIZER;CN="Coastal Cat Rescue":MAILTO:info@coastalcatrescue.org
END:VEVENT
BEGIN:VEVENT
DTSTART;TZID=America/New_York:20260309T183000
DTEND;TZID=America/New_York:20260309T200000
DTSTAMP:20260419T081146
CREATED:20250321T182616Z
LAST-MODIFIED:20260309T172337Z
UID:1352-1773081000-1773086400@lfgtonight.com
SUMMARY:[Cancelled for tonight only] Beginner Country Line Dancing -Every Monday
DESCRIPTION:Join us every Monday night until the summer starts! Just a $5 contribution to the instructor.
URL:https://lfgtonight.com/event/beginner-country-line-dancing-every-monday-10/
LOCATION:Daddy’s Beach Club\, Hull\, MA
CATEGORIES:Family Fun,Nightlife
ATTACH;FMTTYPE=image/jpeg:https://tectolabs-web-assets.s3.us-east-2.amazonaws.com/lfgtonight_com/2025/03/21182210/line-dancing.jpg
END:VEVENT
BEGIN:VEVENT
DTSTART;TZID=America/New_York:20260323T183000
DTEND;TZID=America/New_York:20260323T200000
DTSTAMP:20260419T081146
CREATED:20250321T182558Z
LAST-MODIFIED:20260228T195759Z
UID:1351-1774290600-1774296000@lfgtonight.com
SUMMARY:Beginner Country Line Dancing -Every Monday
DESCRIPTION:Join us every Monday night until the summer starts! Just a $5 contribution to the instructor.
URL:https://lfgtonight.com/event/beginner-country-line-dancing-every-monday-9/
LOCATION:Daddy’s Beach Club\, Hull\, MA
CATEGORIES:Family Fun,Nightlife
ATTACH;FMTTYPE=image/jpeg:https://tectolabs-web-assets.s3.us-east-2.amazonaws.com/lfgtonight_com/2025/03/21182210/line-dancing.jpg
END:VEVENT
BEGIN:VEVENT
DTSTART;TZID=America/New_York:20260330T183000
DTEND;TZID=America/New_York:20260330T200000
DTSTAMP:20260419T081146
CREATED:20250321T182454Z
LAST-MODIFIED:20260228T202333Z
UID:1348-1774895400-1774900800@lfgtonight.com
SUMMARY:Beginner Country Line Dancing -Every Monday
DESCRIPTION:Join us every Monday night until the summer starts! Just a $5 contribution to the instructor.
URL:https://lfgtonight.com/event/beginner-country-line-dancing-every-monday-6/
LOCATION:Daddy’s Beach Club\, Hull\, MA
CATEGORIES:Family Fun,Nightlife
ATTACH;FMTTYPE=image/jpeg:https://tectolabs-web-assets.s3.us-east-2.amazonaws.com/lfgtonight_com/2025/03/21182210/line-dancing.jpg
END:VEVENT
END:VCALENDAR