BEGIN:VCALENDAR
VERSION:2.0
PRODID:-//LFG TONIGHT - HULL - ECPv6.9.0//NONSGML v1.0//EN
CALSCALE:GREGORIAN
METHOD:PUBLISH
X-ORIGINAL-URL:https://lfgtonight.com
X-WR-CALDESC:Events for LFG TONIGHT - HULL
REFRESH-INTERVAL;VALUE=DURATION:PT1H
X-Robots-Tag:noindex
X-PUBLISHED-TTL:PT1H
BEGIN:VTIMEZONE
TZID:America/New_York
BEGIN:DAYLIGHT
TZOFFSETFROM:-0500
TZOFFSETTO:-0400
TZNAME:EDT
DTSTART:20240310T070000
END:DAYLIGHT
BEGIN:STANDARD
TZOFFSETFROM:-0400
TZOFFSETTO:-0500
TZNAME:EST
DTSTART:20241103T060000
END:STANDARD
END:VTIMEZONE
BEGIN:VEVENT
DTSTART;TZID=America/New_York:20241215T153000
DTEND;TZID=America/New_York:20241215T200000
DTSTAMP:20260420T115759
CREATED:20241126T154804Z
LAST-MODIFIED:20241126T161135Z
UID:317-1734276600-1734292800@lfgtonight.com
SUMMARY:BOSSE LIVE winter blaze 2024 (A Bosse School Of Music)
DESCRIPTION:Doors open 3:30pm Show 4pm -8pm more information soon
URL:https://lfgtonight.com/event/bosse-live-winter-blaze-2024-a-bosse-school-of-music/
LOCATION:C Note\, 159 Nantasket Aveneu\, Hull\, MA\, 02045\, United States
END:VEVENT
END:VCALENDAR