BEGIN:VCALENDAR
VERSION:2.0
PRODID:-//LFG TONIGHT - HULL - ECPv6.9.0//NONSGML v1.0//EN
CALSCALE:GREGORIAN
METHOD:PUBLISH
X-ORIGINAL-URL:https://lfgtonight.com
X-WR-CALDESC:Events for LFG TONIGHT - HULL
REFRESH-INTERVAL;VALUE=DURATION:PT1H
X-Robots-Tag:noindex
X-PUBLISHED-TTL:PT1H
BEGIN:VTIMEZONE
TZID:America/New_York
BEGIN:DAYLIGHT
TZOFFSETFROM:-0500
TZOFFSETTO:-0400
TZNAME:EDT
DTSTART:20240310T070000
END:DAYLIGHT
BEGIN:STANDARD
TZOFFSETFROM:-0400
TZOFFSETTO:-0500
TZNAME:EST
DTSTART:20241103T060000
END:STANDARD
BEGIN:DAYLIGHT
TZOFFSETFROM:-0500
TZOFFSETTO:-0400
TZNAME:EDT
DTSTART:20250309T070000
END:DAYLIGHT
BEGIN:STANDARD
TZOFFSETFROM:-0400
TZOFFSETTO:-0500
TZNAME:EST
DTSTART:20251102T060000
END:STANDARD
END:VTIMEZONE
BEGIN:VEVENT
DTSTART;TZID=America/New_York:20250510T140000
DTEND;TZID=America/New_York:20250510T160000
DTSTAMP:20260419T095230
CREATED:20250421T144805Z
LAST-MODIFIED:20250421T144939Z
UID:1647-1746885600-1746892800@lfgtonight.com
SUMMARY:NBSWC’s Spring Meat & Seafood Raffle - Open to the Public!
DESCRIPTION:Mark your calendars for the NBSWC’s Spring Meat & Seafood Raffle! Always open to the public
URL:https://lfgtonight.com/event/nbswcs-spring-meat-seafood-raffle-open-to-the-public/
LOCATION:Salt Water Club\, 3 Fitzpatrick Way\, Hull\, MA\, 02045\, United States
CATEGORIES:Family Fun,Party,Salt Water Club
ATTACH;FMTTYPE=image/jpeg:https://tectolabs-web-assets.s3.us-east-2.amazonaws.com/lfgtonight_com/2025/04/21144727/Meat-raffle-swc-may-2.jpg
END:VEVENT
BEGIN:VEVENT
DTSTART;TZID=America/New_York:20250306T190000
DTEND;TZID=America/New_York:20250306T210000
DTSTAMP:20260419T095230
CREATED:20250207T150019Z
LAST-MODIFIED:20250207T150019Z
UID:818-1741287600-1741294800@lfgtonight.com
SUMMARY:Left-Right-Center
DESCRIPTION:Coastal Cat Rescue is excited to host our first Left Right Center tournament fundraiser!
URL:https://lfgtonight.com/event/left-right-center/
LOCATION:High Tide @ Nantasket Flatts\, 145 Nantasket avenue\, Hull\, MA\, 02045\, United States
CATEGORIES:Nightlife,Party,Salt Water Club
ORGANIZER;CN="Coastal Cat Rescue":MAILTO:info@coastalcatrescue.org
END:VEVENT
BEGIN:VEVENT
DTSTART;TZID=America/New_York:20241212T190000
DTEND;TZID=America/New_York:20241212T190000
DTSTAMP:20260419T095230
CREATED:20241202T213410Z
LAST-MODIFIED:20241202T213918Z
UID:354-1734030000-1734030000@lfgtonight.com
SUMMARY:Holiday Ceramics Paint Night  (w/NBSWC) - benefitting the Special Olympics
DESCRIPTION:The Parrot in collaboration with the NB-Salt Water Club are hosting a night to paint ceramics. Come make a family heirloom or a great Christmas gift while supporting the Special Olympics! Dec. 12th at 7pm.  $50 per person via Venmo (@Nichole-FalcettaLondergan).
URL:https://lfgtonight.com/event/holiday-ceramics-painting-night-w-nbswc-benefitting-the-special-olympics/
LOCATION:The Parrot\, 1 Hull Shore Drive\, Hull\, MA\, 02045\, United States
CATEGORIES:Family Fun,Nightlife,Salt Water Club
ATTACH;FMTTYPE=image/jpeg:https://tectolabs-web-assets.s3.us-east-2.amazonaws.com/lfgtonight_com/2024/11/11010048/the-parrot-1.jpg
END:VEVENT
END:VCALENDAR