BEGIN:VCALENDAR
VERSION:2.0
PRODID:-//LFG TONIGHT - HULL - ECPv6.9.0//NONSGML v1.0//EN
CALSCALE:GREGORIAN
METHOD:PUBLISH
X-ORIGINAL-URL:https://lfgtonight.com
X-WR-CALDESC:Events for LFG TONIGHT - HULL
REFRESH-INTERVAL;VALUE=DURATION:PT1H
X-Robots-Tag:noindex
X-PUBLISHED-TTL:PT1H
BEGIN:VTIMEZONE
TZID:America/New_York
BEGIN:DAYLIGHT
TZOFFSETFROM:-0500
TZOFFSETTO:-0400
TZNAME:EDT
DTSTART:20250309T070000
END:DAYLIGHT
BEGIN:STANDARD
TZOFFSETFROM:-0400
TZOFFSETTO:-0500
TZNAME:EST
DTSTART:20251102T060000
END:STANDARD
END:VTIMEZONE
BEGIN:VEVENT
DTSTART;TZID=America/New_York:20250815T200000
DTEND;TZID=America/New_York:20250815T233000
DTSTAMP:20260423T150848
CREATED:20250718T192811Z
LAST-MODIFIED:20250813T154446Z
UID:2747-1755288000-1755300600@lfgtonight.com
SUMMARY:Jim Plunket - Friday at Typsy Tuna
DESCRIPTION:Come see Jim Plunkett Friday nigth at 8pm….and don’t forget to bring your ACTUAL significant other 😉 Word gets around fast at Tipsy Tuna.\nCome for the music\, stay for the vibes\, and maybe a little gossip. 🎶🌊🍹
URL:https://lfgtonight.com/event/jim-plunket-tonight-at-typsy-tuna/
LOCATION:Typsy Tuna\, 276 Nantasket Ave\, Hull\, MA\, 02045\, United States
CATEGORIES:live music,Nightlife
ATTACH;FMTTYPE=image/jpeg:https://tectolabs-web-assets.s3.us-east-2.amazonaws.com/lfgtonight_com/2025/07/18192803/plunket.jpg
END:VEVENT
BEGIN:VEVENT
DTSTART;TZID=America/New_York:20250815T173000
DTEND;TZID=America/New_York:20250815T203000
DTSTAMP:20260423T150848
CREATED:20250813T154941Z
LAST-MODIFIED:20250813T155011Z
UID:3020-1755279000-1755289800@lfgtonight.com
SUMMARY:Meghan Donofrio - Live at the Drift
DESCRIPTION:Stacked with talent! Make sure to seize every last sunset this summer at The Drift!\nLive music\, Tuesday-Sunday\, starts at 5:30pm each night!\n🚨NEW HOURS OF OPERATIONS:\nTUESDAY-THURSDAY // 4-9PM\nFRIDAY-SUNDAY // 12-9PM\n*STARTING 8/12/25\n#livemusic #nantasketbeach #hullma #southshorema #waterfront #southshorelivemusic
URL:https://lfgtonight.com/event/3020/
LOCATION:the drift\, 48 George Washington Boulevard\, Hull\, MA\, 02045\, United States
CATEGORIES:Family Fun,live music,Nightlife
ATTACH;FMTTYPE=image/jpeg:https://tectolabs-web-assets.s3.us-east-2.amazonaws.com/lfgtonight_com/2025/08/13154743/532126129_18064232453266488_3458043153830330803_n.jpg
END:VEVENT
BEGIN:VEVENT
DTSTART;TZID=America/New_York:20250814T200000
DTEND;TZID=America/New_York:20250814T230000
DTSTAMP:20260423T150848
CREATED:20250813T200243Z
LAST-MODIFIED:20250813T200243Z
UID:3029-1755201600-1755212400@lfgtonight.com
SUMMARY:DJ Flow Sousa
DESCRIPTION:You packed the place last weekend\, let’s run it back! Hot weather\, live music\, and your favorite seafood are waiting at Tipsy Tuna. 🌊🍹🎸🎧\nThursday @_joshua_sousa\nFriday Jim Plunkett\nSaturday @blame_it_on_john_band\nALL 8-11 PM and *WEATHER DEPENDENT*
URL:https://lfgtonight.com/event/dj-flow-sousa/
LOCATION:Typsy Tuna\, 276 Nantasket Ave\, Hull\, MA\, 02045\, United States
CATEGORIES:live music,Nightlife
ATTACH;FMTTYPE=image/jpeg:https://tectolabs-web-assets.s3.us-east-2.amazonaws.com/lfgtonight_com/2025/07/01131022/499591922_1300507482076525_7185139194835450153_n.jpg
END:VEVENT
BEGIN:VEVENT
DTSTART;TZID=America/New_York:20250814T173000
DTEND;TZID=America/New_York:20250814T203000
DTSTAMP:20260423T150848
CREATED:20250813T154845Z
LAST-MODIFIED:20250813T154845Z
UID:3018-1755192600-1755203400@lfgtonight.com
SUMMARY:Ryan McHugh - Live at the Drift
DESCRIPTION:Stacked with talent! Make sure to seize every last sunset this summer at The Drift!\nLive music\, Tuesday-Sunday\, starts at 5:30pm each night!\n🚨NEW HOURS OF OPERATIONS:\nTUESDAY-THURSDAY // 4-9PM\nFRIDAY-SUNDAY // 12-9PM\n*STARTING 8/12/25\n#livemusic #nantasketbeach #hullma #southshorema #waterfront #southshorelivemusic
URL:https://lfgtonight.com/event/ryan-mchugh-live-at-the-drift/
LOCATION:the drift\, 48 George Washington Boulevard\, Hull\, MA\, 02045\, United States
CATEGORIES:Family Fun,live music,Nightlife
ATTACH;FMTTYPE=image/jpeg:https://tectolabs-web-assets.s3.us-east-2.amazonaws.com/lfgtonight_com/2025/08/13154743/532126129_18064232453266488_3458043153830330803_n.jpg
END:VEVENT
BEGIN:VEVENT
DTSTART;TZID=America/New_York:20250809T200000
DTEND;TZID=America/New_York:20250809T230000
DTSTAMP:20260423T150848
CREATED:20250801T174405Z
LAST-MODIFIED:20250809T135730Z
UID:2890-1754769600-1754780400@lfgtonight.com
SUMMARY:DJ Joisy Jai - Live at Tipsy
DESCRIPTION:We’re OPEN at Tipsy Tuna Hull! Blue skies\, beach breeze\, and music all weekend long—come soak it up with us ☀️🎶🍹\n SATURDAY 8-11pm
URL:https://lfgtonight.com/event/trif3ecta-live-at-tipsy/
LOCATION:Typsy Tuna\, 276 Nantasket Ave\, Hull\, MA\, 02045\, United States
CATEGORIES:Nightlife
END:VEVENT
BEGIN:VEVENT
DTSTART;TZID=America/New_York:20250809T190000
DTEND;TZID=America/New_York:20250809T220000
DTSTAMP:20260423T150848
CREATED:20250731T133205Z
LAST-MODIFIED:20250731T133205Z
UID:2868-1754766000-1754776800@lfgtonight.com
SUMMARY:Pemberton All-Stars - Live at Jo's
DESCRIPTION:
URL:https://lfgtonight.com/event/pemberton-all-stars-live-at-jos/
LOCATION:Jo’s Nautical\, 125 main Street\, Hull\, MA\, 02045\, United States
CATEGORIES:live music,Nightlife
ATTACH;FMTTYPE=image/jpeg:https://tectolabs-web-assets.s3.us-east-2.amazonaws.com/lfgtonight_com/2025/07/31133153/524929811_1289167279377516_5812664536435859557_n.jpg
END:VEVENT
BEGIN:VEVENT
DTSTART;TZID=America/New_York:20250809T173000
DTEND;TZID=America/New_York:20250809T203000
DTSTAMP:20260423T150848
CREATED:20250807T132727Z
LAST-MODIFIED:20250807T132727Z
UID:2951-1754760600-1754771400@lfgtonight.com
SUMMARY:Sam Chase - Live at the Drift
DESCRIPTION:This week/weekend looks BEAUTIFUL! And we’ve got a star studded line up per usual!! 😎\n🍔Kitchen & bar open 12-9\nLive music starts at 5:30! No cover🫶🏼\n#livemusic #hullma #southshorema #southshorelivetribe #summernight #waterfront
URL:https://lfgtonight.com/event/sam-chase-live-at-the-drift/
LOCATION:the drift\, 48 George Washington Boulevard\, Hull\, MA\, 02045\, United States
CATEGORIES:live music,Nightlife
ATTACH;FMTTYPE=image/jpeg:https://tectolabs-web-assets.s3.us-east-2.amazonaws.com/lfgtonight_com/2025/06/07132442/527573959_18063636815266488_4434962515914458902_n.jpg
END:VEVENT
BEGIN:VEVENT
DTSTART;TZID=America/New_York:20250802T210000
DTEND;TZID=America/New_York:20250803T003000
DTSTAMP:20260423T150848
CREATED:20250329T180229Z
LAST-MODIFIED:20250603T174429Z
UID:1458-1754168400-1754181000@lfgtonight.com
SUMMARY:DJ Dan's Old School Night @ the Parrot
DESCRIPTION:We are going to be rocking the house The Parrot in Hull these throwback nights have caught on like wildfire.  Come on out and let me take you back to high school with all the songs from your past.  Party kicks off April 5th @8pm  hope to see you all there DJ Dan’s old school night at The Parrot
URL:https://lfgtonight.com/event/dj-dans-old-school-night-the-parrot/
LOCATION:The Parrot\, 1 Hull Shore Drive\, Hull\, MA\, 02045\, United States
CATEGORIES:live music,Nightlife
ATTACH;FMTTYPE=image/jpeg:https://tectolabs-web-assets.s3.us-east-2.amazonaws.com/lfgtonight_com/2025/03/29180144/parrto-80s.jpg
END:VEVENT
BEGIN:VEVENT
DTSTART;TZID=America/New_York:20250801T210000
DTEND;TZID=America/New_York:20250802T003000
DTSTAMP:20260423T150848
CREATED:20250731T132457Z
LAST-MODIFIED:20250731T132457Z
UID:2864-1754082000-1754094600@lfgtonight.com
SUMMARY:What It Is - Live at Daddy's
DESCRIPTION:
URL:https://lfgtonight.com/event/what-it-is-live-at-daddys/
LOCATION:Daddy’s Beach Club\, Hull\, MA
CATEGORIES:live music,Nightlife
ATTACH;FMTTYPE=image/jpeg:https://tectolabs-web-assets.s3.us-east-2.amazonaws.com/lfgtonight_com/2025/07/31132449/what-it-iz-1024x676-1.jpg
END:VEVENT
BEGIN:VEVENT
DTSTART;TZID=America/New_York:20250801T200000
DTEND;TZID=America/New_York:20250801T233000
DTSTAMP:20260423T150848
CREATED:20250731T133413Z
LAST-MODIFIED:20250731T133413Z
UID:2871-1754078400-1754091000@lfgtonight.com
SUMMARY:The Jake Ash Band - Live at Tipsy
DESCRIPTION:This weekend! Hull and Plymouth. Where better to spend hot summer nights? Tipsy Tuna Friday night and Proof 22 Saturday night. See you there!
URL:https://lfgtonight.com/event/the-jake-ash-band-live-at-tipsy/
LOCATION:Typsy Tuna\, 276 Nantasket Ave\, Hull\, MA\, 02045\, United States
CATEGORIES:live music,Nightlife
ATTACH;FMTTYPE=image/jpeg:https://tectolabs-web-assets.s3.us-east-2.amazonaws.com/lfgtonight_com/2025/07/31133406/525614235_18526358938042029_6082137356006769246_n.jpg
END:VEVENT
BEGIN:VEVENT
DTSTART;TZID=America/New_York:20250726T200000
DTEND;TZID=America/New_York:20250726T233000
DTSTAMP:20260423T150848
CREATED:20250725T142342Z
LAST-MODIFIED:20250725T142342Z
UID:2827-1753560000-1753572600@lfgtonight.com
SUMMARY:Charing Cross - Live
DESCRIPTION:
URL:https://lfgtonight.com/event/charing-cross-live/
LOCATION:Typsy Tuna\, 276 Nantasket Ave\, Hull\, MA\, 02045\, United States
CATEGORIES:live music,Nightlife
ATTACH;FMTTYPE=image/jpeg:https://tectolabs-web-assets.s3.us-east-2.amazonaws.com/lfgtonight_com/2025/07/25142242/Screenshot-2025-07-25-102107.jpg
END:VEVENT
BEGIN:VEVENT
DTSTART;TZID=America/New_York:20250726T180000
DTEND;TZID=America/New_York:20250726T220000
DTSTAMP:20260423T150848
CREATED:20250725T141717Z
LAST-MODIFIED:20250725T141717Z
UID:2821-1753552800-1753567200@lfgtonight.com
SUMMARY:Kenny Morrell - Live at Jo's
DESCRIPTION:Saturday\, 7/26\, The Too Stupid To Quit Tour reappears at Jo’s Nautical Bar\, 125 Main St  Hull.\nJoined by the amazing Tony Quintiliani on Saxaphone and vocals. We are looking forward to a night of fun\, music and dance! Show starts at 6pm.\nCome Early. Stay Late! No Cover. Cash only
URL:https://lfgtonight.com/event/kenny-morrell-live-at-jos/
LOCATION:Jo’s Nautical\, 125 main Street\, Hull\, MA\, 02045\, United States
CATEGORIES:live music,Nightlife
ATTACH;FMTTYPE=image/jpeg:https://tectolabs-web-assets.s3.us-east-2.amazonaws.com/lfgtonight_com/2025/07/25141708/464856237_10227039088625416_8555919394799487813_n.jpg
END:VEVENT
BEGIN:VEVENT
DTSTART;TZID=America/New_York:20250726T180000
DTEND;TZID=America/New_York:20250726T210000
DTSTAMP:20260423T150848
CREATED:20250722T192959Z
LAST-MODIFIED:20250722T193141Z
UID:2794-1753552800-1753563600@lfgtonight.com
SUMMARY:Griffin Ryan & Kyle Fickeisen - Live Music
DESCRIPTION:We’ve got a gorgeous week ahead of us\, and a star studded lineup for live music\, Tuesday through Sunday! \nFree parking and no cover! \n#livemusicsouthshorema #southshorema #hullma #nantasketbeach #livemusic #summerinnewengland
URL:https://lfgtonight.com/event/griffin-ryan-kyle-fickeisen/
LOCATION:the drift\, 48 George Washington Boulevard\, Hull\, MA\, 02045\, United States
CATEGORIES:live music,Nightlife
ATTACH;FMTTYPE=image/jpeg:https://tectolabs-web-assets.s3.us-east-2.amazonaws.com/lfgtonight_com/2025/07/22192448/DRIFT-GENEERIFC.jpg
END:VEVENT
BEGIN:VEVENT
DTSTART;TZID=America/New_York:20250725T203000
DTEND;TZID=America/New_York:20250725T233000
DTSTAMP:20260423T150848
CREATED:20250725T142247Z
LAST-MODIFIED:20250725T142247Z
UID:2824-1753475400-1753486200@lfgtonight.com
SUMMARY:Overserved Again - Live
DESCRIPTION:
URL:https://lfgtonight.com/event/overserved-again-live/
LOCATION:Typsy Tuna\, 276 Nantasket Ave\, Hull\, MA\, 02045\, United States
CATEGORIES:live music,Nightlife
ATTACH;FMTTYPE=image/jpeg:https://tectolabs-web-assets.s3.us-east-2.amazonaws.com/lfgtonight_com/2025/07/25142242/Screenshot-2025-07-25-102107.jpg
END:VEVENT
BEGIN:VEVENT
DTSTART;TZID=America/New_York:20250725T180000
DTEND;TZID=America/New_York:20250725T210000
DTSTAMP:20260423T150848
CREATED:20250722T192855Z
LAST-MODIFIED:20250722T192855Z
UID:2792-1753466400-1753477200@lfgtonight.com
SUMMARY:Stu Sinclair - Live music
DESCRIPTION:We’ve got a gorgeous week ahead of us\, and a star studded lineup for live music\, Tuesday through Sunday! \nFree parking and no cover! \n#livemusicsouthshorema #southshorema #hullma #nantasketbeach #livemusic #summerinnewengland
URL:https://lfgtonight.com/event/stu-sinclair-live-music-2/
LOCATION:the drift\, 48 George Washington Boulevard\, Hull\, MA\, 02045\, United States
CATEGORIES:live music,Nightlife
ATTACH;FMTTYPE=image/jpeg:https://tectolabs-web-assets.s3.us-east-2.amazonaws.com/lfgtonight_com/2025/07/22192448/DRIFT-GENEERIFC.jpg
END:VEVENT
BEGIN:VEVENT
DTSTART;TZID=America/New_York:20250723T180000
DTEND;TZID=America/New_York:20250723T210000
DTSTAMP:20260423T150848
CREATED:20250609T154230Z
LAST-MODIFIED:20250609T154230Z
UID:2244-1753293600-1753304400@lfgtonight.com
SUMMARY:Wharf Rat Wednesdays - Live Music with Joshua Metz
DESCRIPTION:June 11th – July 23rd (Wednesdays)
URL:https://lfgtonight.com/event/wharf-rat-wednesdays-live-music-with-joshua-metz-7/
LOCATION:Daddy’s Beach Club\, Hull\, MA
CATEGORIES:live music,Nightlife
ATTACH;FMTTYPE=image/jpeg:https://tectolabs-web-assets.s3.us-east-2.amazonaws.com/lfgtonight_com/2025/06/09153606/Daddys-june-11-to-july-23-or-8-joshua-metz.jpg
END:VEVENT
BEGIN:VEVENT
DTSTART;TZID=America/New_York:20250722T200000
DTEND;TZID=America/New_York:20250722T230000
DTSTAMP:20260423T150848
CREATED:20250722T192124Z
LAST-MODIFIED:20250722T192124Z
UID:2782-1753214400-1753225200@lfgtonight.com
SUMMARY:Karioke Tonight @ Tipsy Tuna
DESCRIPTION:One mic. Zero shame. Unlimited vibes. Let’s hear those pipes! 🎤💃 Come join us 8-11pm
URL:https://lfgtonight.com/event/karioke-tonight-tipsy-tuna/
LOCATION:Typsy Tuna\, 276 Nantasket Ave\, Hull\, MA\, 02045\, United States
CATEGORIES:Nightlife,Party
ATTACH;FMTTYPE=image/jpeg:https://tectolabs-web-assets.s3.us-east-2.amazonaws.com/lfgtonight_com/2025/07/01131022/499591922_1300507482076525_7185139194835450153_n.jpg
END:VEVENT
BEGIN:VEVENT
DTSTART;TZID=America/New_York:20250719T210000
DTEND;TZID=America/New_York:20250720T003000
DTSTAMP:20260423T150848
CREATED:20250603T174125Z
LAST-MODIFIED:20250603T174125Z
UID:2104-1752958800-1752971400@lfgtonight.com
SUMMARY:Matt Koelsh Trio live @ the Parrot
DESCRIPTION:
URL:https://lfgtonight.com/event/matt-koelsh-trio-live-the-parrot/
LOCATION:The Parrot\, 1 Hull Shore Drive\, Hull\, MA\, 02045\, United States
CATEGORIES:live music,Nightlife
ATTACH;FMTTYPE=image/jpeg:https://tectolabs-web-assets.s3.us-east-2.amazonaws.com/lfgtonight_com/2024/11/11010048/the-parrot-1.jpg
END:VEVENT
BEGIN:VEVENT
DTSTART;TZID=America/New_York:20250719T200000
DTEND;TZID=America/New_York:20250719T230000
DTSTAMP:20260423T150848
CREATED:20250718T192211Z
LAST-MODIFIED:20250718T192211Z
UID:2744-1752955200-1752966000@lfgtonight.com
SUMMARY:The Pitfalls Live @ Typsy Tuna
DESCRIPTION:SATURDAY NIGHT! The Pitfalls LIVE at Tipsy Tuna in Hull\, MA! Let’s have some fun where there’s no roof to tear off! ❤️🎶
URL:https://lfgtonight.com/event/the-pitfalls-live-typsy-tuna/
LOCATION:Typsy Tuna\, 276 Nantasket Ave\, Hull\, MA\, 02045\, United States
CATEGORIES:live music,Nightlife
ATTACH;FMTTYPE=image/jpeg:https://tectolabs-web-assets.s3.us-east-2.amazonaws.com/lfgtonight_com/2025/07/18192203/PTIFALLS-SAT.jpg
END:VEVENT
BEGIN:VEVENT
DTSTART;TZID=America/New_York:20250718T210000
DTEND;TZID=America/New_York:20250719T003000
DTSTAMP:20260423T150848
CREATED:20250128T213212Z
LAST-MODIFIED:20250716T151206Z
UID:600-1752872400-1752885000@lfgtonight.com
SUMMARY:A Little bit SHAGGY - Live Music
DESCRIPTION:A Little Bit Shaggy hits the beach for the a big night at Daddy’s!   @alittlebitshaggy
URL:https://lfgtonight.com/event/a-little-bit-shaggy-live-music/
LOCATION:Daddy’s Beach Club\, Hull\, MA
CATEGORIES:live music,Nightlife
ATTACH;FMTTYPE=image/jpeg:https://tectolabs-web-assets.s3.us-east-2.amazonaws.com/lfgtonight_com/2025/01/28213145/shaggy.jpg
END:VEVENT
BEGIN:VEVENT
DTSTART;TZID=America/New_York:20250718T190000
DTEND;TZID=America/New_York:20250718T220000
DTSTAMP:20260423T150848
CREATED:20250716T152326Z
LAST-MODIFIED:20250716T152609Z
UID:2732-1752865200-1752876000@lfgtonight.com
SUMMARY:Summer Sizzle Dance Party - At Jo's with DJ Bobby
DESCRIPTION:
URL:https://lfgtonight.com/event/summer-sizzle-dance-party-at-jos-with-dj-bobby/
LOCATION:Jo’s Nautical\, 125 main Street\, Hull\, MA\, 02045\, United States
CATEGORIES:Nightlife,Party
ATTACH;FMTTYPE=image/jpeg:https://tectolabs-web-assets.s3.us-east-2.amazonaws.com/lfgtonight_com/2025/07/16152316/JOES-july-18.jpg
END:VEVENT
BEGIN:VEVENT
DTSTART;TZID=America/New_York:20250716T180000
DTEND;TZID=America/New_York:20250716T210000
DTSTAMP:20260423T150848
CREATED:20250609T154138Z
LAST-MODIFIED:20250609T154138Z
UID:2242-1752688800-1752699600@lfgtonight.com
SUMMARY:Wharf Rat Wednesdays - Live Music with Joshua Metz
DESCRIPTION:June 11th – July 23rd (Wednesdays)
URL:https://lfgtonight.com/event/wharf-rat-wednesdays-live-music-with-joshua-metz-6/
LOCATION:Daddy’s Beach Club\, Hull\, MA
CATEGORIES:live music,Nightlife
ATTACH;FMTTYPE=image/jpeg:https://tectolabs-web-assets.s3.us-east-2.amazonaws.com/lfgtonight_com/2025/06/09153606/Daddys-june-11-to-july-23-or-8-joshua-metz.jpg
END:VEVENT
BEGIN:VEVENT
DTSTART;TZID=America/New_York:20250713T160000
DTEND;TZID=America/New_York:20250713T190000
DTSTAMP:20260423T150848
CREATED:20250603T173941Z
LAST-MODIFIED:20250603T173941Z
UID:2102-1752422400-1752433200@lfgtonight.com
SUMMARY:Vicky Lynch live at the Parrot
DESCRIPTION:
URL:https://lfgtonight.com/event/vicky-lynch-live-at-the-parrot/
LOCATION:The Parrot\, 1 Hull Shore Drive\, Hull\, MA\, 02045\, United States
CATEGORIES:Family Fun,live music,Nightlife
ATTACH;FMTTYPE=image/jpeg:https://tectolabs-web-assets.s3.us-east-2.amazonaws.com/lfgtonight_com/2024/11/11010048/the-parrot-1.jpg
END:VEVENT
BEGIN:VEVENT
DTSTART;TZID=America/New_York:20250709T180000
DTEND;TZID=America/New_York:20250709T210000
DTSTAMP:20260423T150848
CREATED:20250609T154045Z
LAST-MODIFIED:20250609T154045Z
UID:2240-1752084000-1752094800@lfgtonight.com
SUMMARY:Wharf Rat Wednesdays - Live Music with Joshua Metz
DESCRIPTION:June 11th – July 23rd (Wednesdays)
URL:https://lfgtonight.com/event/wharf-rat-wednesdays-live-music-with-joshua-metz-5/
LOCATION:Daddy’s Beach Club\, Hull\, MA
CATEGORIES:live music,Nightlife
ATTACH;FMTTYPE=image/jpeg:https://tectolabs-web-assets.s3.us-east-2.amazonaws.com/lfgtonight_com/2025/06/09153606/Daddys-june-11-to-july-23-or-8-joshua-metz.jpg
END:VEVENT
BEGIN:VEVENT
DTSTART;TZID=America/New_York:20250706T150000
DTEND;TZID=America/New_York:20250706T180000
DTSTAMP:20260423T150848
CREATED:20250703T174518Z
LAST-MODIFIED:20250703T174518Z
UID:2601-1751814000-1751824800@lfgtonight.com
SUMMARY:Live Music at High Tide
DESCRIPTION:HAPPY 4th of JULY!!  Open and ready for you — the weather looks amazing.  Join us on the patio — before the beach\, after the beach\, before the fireworks & bonfires  — great food\, live music and holiday weekend fun.   \nSPECIAL HOLIDAY HOURS —  WED 7/3 OPEN 4pm.  FRI 4th of JULY at 12noon!!  SAT 7/5 and SUN 7/6 Open 12 noon.\nWe have a great line up of live music FRi\, SAT and SUN.   \n#hightidesgoodvibes #4thofJuly #livemusic#SummerVibes #southshorema #southshoreliving #southshorefoodies #bbqlife #patiovibes #hullchamber #hulltimes \n145 Nantasket Avenue\nHull\, MA 02045\n781-773-1402 \nLocated directly across from NANTASKET BEACH.  Free parking in the DCR lot everyday after 4pm.
URL:https://lfgtonight.com/event/live-music-at-high-tide-2/
LOCATION:High Tide @ Nantasket Flatts\, 145 Nantasket avenue\, Hull\, MA\, 02045\, United States
CATEGORIES:Family Fun,live music,Nightlife
ATTACH;FMTTYPE=image/jpeg:https://tectolabs-web-assets.s3.us-east-2.amazonaws.com/lfgtonight_com/2025/04/03174047/FB_IMG_1751564397491.jpg
END:VEVENT
BEGIN:VEVENT
DTSTART;TZID=America/New_York:20250705T190000
DTEND;TZID=America/New_York:20250705T230000
DTSTAMP:20260423T150848
CREATED:20250701T131027Z
LAST-MODIFIED:20250701T131053Z
UID:2553-1751742000-1751756400@lfgtonight.com
SUMMARY:Classic Vibe @ Tipsy Tuna
DESCRIPTION:Saturday July 5th we make our season debut and bring the reggae party to Tipsy Tuna in Hull. Early performance hours so come early.
URL:https://lfgtonight.com/event/classic-vibe-tipsy-tuna/
LOCATION:Typsy Tuna\, 276 Nantasket Ave\, Hull\, MA\, 02045\, United States
CATEGORIES:live music,Nightlife
ATTACH;FMTTYPE=image/jpeg:https://tectolabs-web-assets.s3.us-east-2.amazonaws.com/lfgtonight_com/2025/07/01131022/499591922_1300507482076525_7185139194835450153_n.jpg
END:VEVENT
BEGIN:VEVENT
DTSTART;TZID=America/New_York:20250705T190000
DTEND;TZID=America/New_York:20250705T220000
DTSTAMP:20260423T150848
CREATED:20250529T143928Z
LAST-MODIFIED:20250627T144049Z
UID:2004-1751742000-1751752800@lfgtonight.com
SUMMARY:Pemberton All-Stars live at Jo's Nautical
DESCRIPTION:Always no cover!!
URL:https://lfgtonight.com/event/pemberton-all-stars-live-at-jos-nautical/
LOCATION:Jo’s Nautical\, 125 main Street\, Hull\, MA\, 02045\, United States
CATEGORIES:live music,Nightlife
ATTACH;FMTTYPE=image/jpeg:https://tectolabs-web-assets.s3.us-east-2.amazonaws.com/lfgtonight_com/2025/05/27144042/XXXXXXXXXXXXXXXXXXXXXXXX.jpg
END:VEVENT
BEGIN:VEVENT
DTSTART;TZID=America/New_York:20250705T160000
DTEND;TZID=America/New_York:20250705T220000
DTSTAMP:20260423T150848
CREATED:20250703T174323Z
LAST-MODIFIED:20250703T174323Z
UID:2599-1751731200-1751752800@lfgtonight.com
SUMMARY:Live music at High Tide
DESCRIPTION:HAPPY 4th of JULY!!  Open and ready for you — the weather looks amazing.  Join us on the patio — before the beach\, after the beach\, before the fireworks & bonfires  — great food\, live music and holiday weekend fun.   \nSPECIAL HOLIDAY HOURS —  WED 7/3 OPEN 4pm.  FRI 4th of JULY at 12noon!!  SAT 7/5 and SUN 7/6 Open 12 noon.\nWe have a great line up of live music FRi\, SAT and SUN.   \n#hightidesgoodvibes #4thofJuly #livemusic#SummerVibes #southshorema #southshoreliving #southshorefoodies #bbqlife #patiovibes #hullchamber #hulltimes \n145 Nantasket Avenue\nHull\, MA 02045\n781-773-1402 \nLocated directly across from NANTASKET BEACH.  Free parking in the DCR lot everyday after 4pm.
URL:https://lfgtonight.com/event/live-music-at-high-tide/
LOCATION:High Tide @ Nantasket Flatts\, 145 Nantasket avenue\, Hull\, MA\, 02045\, United States
CATEGORIES:Family Fun,live music,Nightlife
ATTACH;FMTTYPE=image/jpeg:https://tectolabs-web-assets.s3.us-east-2.amazonaws.com/lfgtonight_com/2025/04/03174047/FB_IMG_1751564397491.jpg
END:VEVENT
BEGIN:VEVENT
DTSTART;TZID=America/New_York:20250704T180000
DTEND;TZID=America/New_York:20250704T210000
DTSTAMP:20260423T150848
CREATED:20250404T152134Z
LAST-MODIFIED:20250703T174103Z
UID:1480-1751652000-1751662800@lfgtonight.com
SUMMARY:Dave Foley Live @ the Flatts/High Tide
DESCRIPTION:Join us for an unforgettable evening with Hull’s favorite\, Dave Foley! Enjoy a night of great music and entertainment from Dave on the floor and the ladies singing and slinging from behind the pine . 6-9 PM. Don’t miss out on the fun!
URL:https://lfgtonight.com/event/dave-foley-live-the-flatts-high-tide/
LOCATION:High Tide @ Nantasket Flatts\, 145 Nantasket avenue\, Hull\, MA\, 02045\, United States
CATEGORIES:live music,Nightlife
ATTACH;FMTTYPE=image/jpeg:https://tectolabs-web-assets.s3.us-east-2.amazonaws.com/lfgtonight_com/2025/04/03174047/FB_IMG_1751564397491.jpg
END:VEVENT
BEGIN:VEVENT
DTSTART;TZID=America/New_York:20250702T180000
DTEND;TZID=America/New_York:20250702T210000
DTSTAMP:20260423T150848
CREATED:20250609T153953Z
LAST-MODIFIED:20250609T153953Z
UID:2238-1751479200-1751490000@lfgtonight.com
SUMMARY:Wharf Rat Wednesdays - Live Music with Joshua Metz
DESCRIPTION:June 11th – July 23rd (Wednesdays)
URL:https://lfgtonight.com/event/wharf-rat-wednesdays-live-music-with-joshua-metz-4/
LOCATION:Daddy’s Beach Club\, Hull\, MA
CATEGORIES:live music,Nightlife
ATTACH;FMTTYPE=image/jpeg:https://tectolabs-web-assets.s3.us-east-2.amazonaws.com/lfgtonight_com/2025/06/09153606/Daddys-june-11-to-july-23-or-8-joshua-metz.jpg
END:VEVENT
END:VCALENDAR