BEGIN:VCALENDAR
VERSION:2.0
PRODID:-//LFG TONIGHT - HULL - ECPv6.9.0//NONSGML v1.0//EN
CALSCALE:GREGORIAN
METHOD:PUBLISH
X-ORIGINAL-URL:https://lfgtonight.com
X-WR-CALDESC:Events for LFG TONIGHT - HULL
REFRESH-INTERVAL;VALUE=DURATION:PT1H
X-Robots-Tag:noindex
X-PUBLISHED-TTL:PT1H
BEGIN:VTIMEZONE
TZID:America/New_York
BEGIN:DAYLIGHT
TZOFFSETFROM:-0500
TZOFFSETTO:-0400
TZNAME:EDT
DTSTART:20240310T070000
END:DAYLIGHT
BEGIN:STANDARD
TZOFFSETFROM:-0400
TZOFFSETTO:-0500
TZNAME:EST
DTSTART:20241103T060000
END:STANDARD
BEGIN:DAYLIGHT
TZOFFSETFROM:-0500
TZOFFSETTO:-0400
TZNAME:EDT
DTSTART:20250309T070000
END:DAYLIGHT
BEGIN:STANDARD
TZOFFSETFROM:-0400
TZOFFSETTO:-0500
TZNAME:EST
DTSTART:20251102T060000
END:STANDARD
END:VTIMEZONE
BEGIN:VEVENT
DTSTART;TZID=America/New_York:20250307T203000
DTEND;TZID=America/New_York:20250308T003000
DTSTAMP:20260423T210854
CREATED:20250217T161531Z
LAST-MODIFIED:20250217T161531Z
UID:921-1741379400-1741393800@lfgtonight.com
SUMMARY:Speakeasies Live
DESCRIPTION:
URL:https://lfgtonight.com/event/speakeasies-live/
LOCATION:Daddy’s Beach Club\, Hull\, MA
CATEGORIES:live music,Nightlife
ATTACH;FMTTYPE=image/jpeg:https://tectolabs-web-assets.s3.us-east-2.amazonaws.com/lfgtonight_com/2025/02/17161523/speakeasy-band.jpg
END:VEVENT
BEGIN:VEVENT
DTSTART;TZID=America/New_York:20250307T200000
DTEND;TZID=America/New_York:20250307T230000
DTSTAMP:20260423T210854
CREATED:20250304T204948Z
LAST-MODIFIED:20250304T204948Z
UID:1136-1741377600-1741388400@lfgtonight.com
SUMMARY:Dave Lieb live along with Whip Tasting @ the Pub
DESCRIPTION:Shanky’s Whip Tasting from 8-10pm with Dave Lieb 8-11pm!  The Pub @ the Parrot
URL:https://lfgtonight.com/event/dave-lieb-live-along-with-whip-tasting-the-pub/
LOCATION:The Parrot\, 1 Hull Shore Drive\, Hull\, MA\, 02045\, United States
CATEGORIES:live music,Nightlife,Party
END:VEVENT
BEGIN:VEVENT
DTSTART;TZID=America/New_York:20250307T180000
DTEND;TZID=America/New_York:20250307T210000
DTSTAMP:20260423T210854
CREATED:20250305T162238Z
LAST-MODIFIED:20250305T162238Z
UID:1147-1741370400-1741381200@lfgtonight.com
SUMMARY:Country Fridays - Live Music with The Real Boston Cowboy\, Timothy James
DESCRIPTION:Join us every Friday for Country Fridays!
URL:https://lfgtonight.com/event/country-fridays-live-music-with-the-real-boston-cowboy-timothy-james/
LOCATION:High Tide @ Nantasket Flatts\, 145 Nantasket avenue\, Hull\, MA\, 02045\, United States
CATEGORIES:live music,Nightlife
ATTACH;FMTTYPE=image/jpeg:https://tectolabs-web-assets.s3.us-east-2.amazonaws.com/lfgtonight_com/2025/03/05162211/Timothy-James-1.jpg
END:VEVENT
BEGIN:VEVENT
DTSTART;TZID=America/New_York:20250306T190000
DTEND;TZID=America/New_York:20250306T210000
DTSTAMP:20260423T210854
CREATED:20250207T150019Z
LAST-MODIFIED:20250207T150019Z
UID:818-1741287600-1741294800@lfgtonight.com
SUMMARY:Left-Right-Center
DESCRIPTION:Coastal Cat Rescue is excited to host our first Left Right Center tournament fundraiser!
URL:https://lfgtonight.com/event/left-right-center/
LOCATION:High Tide @ Nantasket Flatts\, 145 Nantasket avenue\, Hull\, MA\, 02045\, United States
CATEGORIES:Nightlife,Party,Salt Water Club
ORGANIZER;CN="Coastal Cat Rescue":MAILTO:info@coastalcatrescue.org
END:VEVENT
BEGIN:VEVENT
DTSTART;TZID=America/New_York:20250228T180000
DTEND;TZID=America/New_York:20250228T210000
DTSTAMP:20260423T210854
CREATED:20250202T213214Z
LAST-MODIFIED:20250203T205228Z
UID:754-1740765600-1740776400@lfgtonight.com
SUMMARY:Beach House Band @ Jo's
DESCRIPTION:Beach House Band will be on center stage.  Bring a little SPRING to Jo’s Bar.  Beachhouseband02045@gmail.com
URL:https://lfgtonight.com/event/beach-house-band-jos/
LOCATION:Jo’s Nautical\, 125 main Street\, Hull\, MA\, 02045\, United States
CATEGORIES:live music,Nightlife
END:VEVENT
BEGIN:VEVENT
DTSTART;TZID=America/New_York:20250225T173000
DTEND;TZID=America/New_York:20250225T203000
DTSTAMP:20260423T210854
CREATED:20250203T210602Z
LAST-MODIFIED:20250203T210602Z
UID:739-1740504600-1740515400@lfgtonight.com
SUMMARY:Hull FireFly
DESCRIPTION:Similar to NPR’s The Moth- Story telling with a theme\, hosted by Dennis Zaia this month’s theme for stories “Oh Sh*t”\nAt the Parrot (top floor) starts at 5:30PM with grazing table yummy food and desserts -The talks start at 7PM and goes until 8:30PM\nTypically last Tuesday of the month. Get tickets through Eventbrite- $25/person
URL:https://lfgtonight.com/event/hull-firefly/
LOCATION:The Parrot\, 1 Hull Shore Drive\, Hull\, MA\, 02045\, United States
CATEGORIES:Family Fun,Nightlife
ATTACH;FMTTYPE=image/jpeg:https://tectolabs-web-assets.s3.us-east-2.amazonaws.com/lfgtonight_com/2025/02/02170514/A63EBD5F-32BA-4A5A-ABDB-450589DAB4A8.jpeg
END:VEVENT
BEGIN:VEVENT
DTSTART;TZID=America/New_York:20250222T210000
DTEND;TZID=America/New_York:20250222T233000
DTSTAMP:20260423T210854
CREATED:20250206T192948Z
LAST-MODIFIED:20250222T203424Z
UID:808-1740258000-1740267000@lfgtonight.com
SUMMARY:Live Music - DJ Tyson
DESCRIPTION:
URL:https://lfgtonight.com/event/live-music-dj-tyson/
LOCATION:The Parrot\, 1 Hull Shore Drive\, Hull\, MA\, 02045\, United States
CATEGORIES:live music,Nightlife
ATTACH;FMTTYPE=image/jpeg:https://tectolabs-web-assets.s3.us-east-2.amazonaws.com/lfgtonight_com/2025/02/22203327/DJTYSON.jpg
END:VEVENT
BEGIN:VEVENT
DTSTART;TZID=America/New_York:20250216T210000
DTEND;TZID=America/New_York:20250216T223000
DTSTAMP:20260423T210854
CREATED:20250215T172350Z
LAST-MODIFIED:20250215T172350Z
UID:895-1739739600-1739745000@lfgtonight.com
SUMMARY:NEW: White Lotus ...Watch Party!
DESCRIPTION:Sunday is the night! White Lotus is BACK!  Fun themed cocktails and a new season let’s go!
URL:https://lfgtonight.com/event/new-white-lotus-watch-party/
LOCATION:The Parrot\, 1 Hull Shore Drive\, Hull\, MA\, 02045\, United States
CATEGORIES:Family Fun,Nightlife
END:VEVENT
BEGIN:VEVENT
DTSTART;TZID=America/New_York:20250214T180000
DTEND;TZID=America/New_York:20250214T210000
DTSTAMP:20260423T210854
CREATED:20250202T212634Z
LAST-MODIFIED:20250203T205136Z
UID:751-1739556000-1739566800@lfgtonight.com
SUMMARY:Valentine's @ Jo's Nautical w/Bobby P. live
DESCRIPTION:Enjoy the night with that special person.  Bobby P. knows just how to do that. One of the best days of the year!
URL:https://lfgtonight.com/event/valentines-jos-nautical-w-bobby-p-live/
LOCATION:Jo’s Nautical\, 125 main Street\, Hull\, MA\, 02045\, United States
CATEGORIES:live music,Nightlife
END:VEVENT
BEGIN:VEVENT
DTSTART;TZID=America/New_York:20250214T180000
DTEND;TZID=America/New_York:20250214T210000
DTSTAMP:20260423T210854
CREATED:20250131T154701Z
LAST-MODIFIED:20250131T154711Z
UID:655-1739556000-1739566800@lfgtonight.com
SUMMARY:A Disco Valentine's Day @ High Tide
DESCRIPTION:Come on your own\, bring a friend\, or your special someone for a night of disco fun! It could be the beginning of something beautiful!!!
URL:https://lfgtonight.com/event/a-disco-valentines-day-high-tide/
LOCATION:High Tide @ Nantasket Flatts\, 145 Nantasket avenue\, Hull\, MA\, 02045\, United States
CATEGORIES:Nightlife,Party
ATTACH;FMTTYPE=image/jpeg:https://tectolabs-web-assets.s3.us-east-2.amazonaws.com/lfgtonight_com/2024/11/11010052/HIGH-MAIN.jpg
END:VEVENT
BEGIN:VEVENT
DTSTART;TZID=America/New_York:20250214T173000
DTEND;TZID=America/New_York:20250214T203000
DTSTAMP:20260423T210854
CREATED:20250206T192257Z
LAST-MODIFIED:20250206T192608Z
UID:800-1739554200-1739565000@lfgtonight.com
SUMMARY:Rebecca & Dave Blame the Whiskey Duo - Live
DESCRIPTION:Hey Everyone. Rebecca and Dave are back for Valentine’s Day at The Parrot! So bring your Valentine\, Pal-entine\, Gal-entine OR just come solo for a fun even with great food\, tunes and friends.
URL:https://lfgtonight.com/event/rebecca-dave-blame-the-whiskey-duo-live/
LOCATION:The Parrot\, 1 Hull Shore Drive\, Hull\, MA\, 02045\, United States
CATEGORIES:live music,Nightlife
END:VEVENT
BEGIN:VEVENT
DTSTART;TZID=America/New_York:20250208T180000
DTEND;TZID=America/New_York:20250208T210000
DTSTAMP:20260423T210854
CREATED:20250202T214256Z
LAST-MODIFIED:20250203T203318Z
UID:756-1739037600-1739048400@lfgtonight.com
SUMMARY:Carlos and Friends Band live @ Jo's
DESCRIPTION:They are back and live at Jo’s!
URL:https://lfgtonight.com/event/carlos-and-friends-band-live-jos/
LOCATION:Jo’s Nautical\, 125 main Street\, Hull\, MA\, 02045\, United States
CATEGORIES:live music,Nightlife
END:VEVENT
BEGIN:VEVENT
DTSTART;TZID=America/New_York:20250207T180000
DTEND;TZID=America/New_York:20250207T210000
DTSTAMP:20260423T210854
CREATED:20250206T193436Z
LAST-MODIFIED:20250206T193436Z
UID:810-1738951200-1738962000@lfgtonight.com
SUMMARY:Live Country Music with Timothy James
DESCRIPTION:February Fridays.  Live country music!\nThis week the talented TIMOTHY JAMES performs.  #therealbostoncowboy\nFRI 2/7\, 6 – 9pm\nOPEN YEAR ROUND\nThurs – Sun\n781-773-1402
URL:https://lfgtonight.com/event/live-country-music-with-timothy-james/
LOCATION:High Tide @ Nantasket Flatts\, 145 Nantasket avenue\, Hull\, MA\, 02045\, United States
CATEGORIES:live music,Nightlife
END:VEVENT
BEGIN:VEVENT
DTSTART;TZID=America/New_York:20250131T180000
DTEND;TZID=America/New_York:20250131T210000
DTSTAMP:20260423T210854
CREATED:20250131T153704Z
LAST-MODIFIED:20250131T195502Z
UID:650-1738346400-1738357200@lfgtonight.com
SUMMARY:Tonight - Live Music with Jacob Gervais @ High Tide
DESCRIPTION:Join us Friday night for live music from Jacob Gervais from 6-9pm!
URL:https://lfgtonight.com/event/tonight-live-music-with-jacob-gervais-high-tides/
LOCATION:High Tide @ Nantasket Flatts\, 145 Nantasket avenue\, Hull\, MA\, 02045\, United States
CATEGORIES:live music,Nightlife
END:VEVENT
BEGIN:VEVENT
DTSTART;TZID=America/New_York:20250129T180000
DTEND;TZID=America/New_York:20250129T220000
DTSTAMP:20260423T210854
CREATED:20241203T170033Z
LAST-MODIFIED:20241203T180319Z
UID:383-1738173600-1738188000@lfgtonight.com
SUMMARY:Karaoke with Paul O - No Cover (Every Wed.)
DESCRIPTION:KARAOKE with PAUL Q NO COVER CHARGE: 6-10pm
URL:https://lfgtonight.com/event/karaoke-with-paul-o-no-cover-every-wed-6/
LOCATION:C Note\, 159 Nantasket Aveneu\, Hull\, MA\, 02045\, United States
CATEGORIES:live music,Nightlife
END:VEVENT
BEGIN:VEVENT
DTSTART;TZID=America/New_York:20250122T180000
DTEND;TZID=America/New_York:20250122T220000
DTSTAMP:20260423T210854
CREATED:20241203T170024Z
LAST-MODIFIED:20241203T170024Z
UID:382-1737568800-1737583200@lfgtonight.com
SUMMARY:Karaoke with Paul O - No Cover (Every Wed.)
DESCRIPTION:KARAOKE with PAUL Q NO COVER CHARGE: 6-10pm
URL:https://lfgtonight.com/event/karaoke-with-paul-o-no-cover-every-wed-5/
LOCATION:C Note\, 159 Nantasket Aveneu\, Hull\, MA\, 02045\, United States
CATEGORIES:Nightlife
END:VEVENT
BEGIN:VEVENT
DTSTART;TZID=America/New_York:20250115T180000
DTEND;TZID=America/New_York:20250115T220000
DTSTAMP:20260423T210854
CREATED:20241203T170024Z
LAST-MODIFIED:20241203T170024Z
UID:381-1736964000-1736978400@lfgtonight.com
SUMMARY:Karaoke with Paul O - No Cover (Every Wed.)
DESCRIPTION:KARAOKE with PAUL Q NO COVER CHARGE: 6-10pm
URL:https://lfgtonight.com/event/karaoke-with-paul-o-no-cover-every-wed-4/
LOCATION:C Note\, 159 Nantasket Aveneu\, Hull\, MA\, 02045\, United States
CATEGORIES:Nightlife
END:VEVENT
BEGIN:VEVENT
DTSTART;TZID=America/New_York:20250110T180000
DTEND;TZID=America/New_York:20250110T210000
DTSTAMP:20260423T210854
CREATED:20241125T164351Z
LAST-MODIFIED:20241125T221338Z
UID:221-1736532000-1736542800@lfgtonight.com
SUMMARY:Country Fridays -  Dave Foley
DESCRIPTION:Get ready for many more Country Music Fridays at High Tide with Lily’s Craft Barbecue!\nGrab your boots\, hat\, and friends\, and join us for live country music every Friday!
URL:https://lfgtonight.com/event/country-fridays-dave-foley/
LOCATION:High Tide @ Nantasket Flatts\, 145 Nantasket avenue\, Hull\, MA\, 02045\, United States
CATEGORIES:Family Fun,Nightlife,Party
END:VEVENT
BEGIN:VEVENT
DTSTART;TZID=America/New_York:20250108T180000
DTEND;TZID=America/New_York:20250108T220000
DTSTAMP:20260423T210854
CREATED:20241203T170023Z
LAST-MODIFIED:20241203T170023Z
UID:380-1736359200-1736373600@lfgtonight.com
SUMMARY:Karaoke with Paul O - No Cover (Every Wed.)
DESCRIPTION:KARAOKE with PAUL Q NO COVER CHARGE: 6-10pm
URL:https://lfgtonight.com/event/karaoke-with-paul-o-no-cover-every-wed-3/
LOCATION:C Note\, 159 Nantasket Aveneu\, Hull\, MA\, 02045\, United States
CATEGORIES:Nightlife
END:VEVENT
BEGIN:VEVENT
DTSTART;TZID=America/New_York:20250103T180000
DTEND;TZID=America/New_York:20250103T210000
DTSTAMP:20260423T210854
CREATED:20241125T164352Z
LAST-MODIFIED:20241125T221047Z
UID:218-1735927200-1735938000@lfgtonight.com
SUMMARY:Country Fridays -  Michael Paul Brennan
DESCRIPTION:Get ready for many more Country Music Fridays at High Tides with Lily’s Craft Barbecue! \nGrab your boots\, hat\, and friends\, and join us for live country music every Friday!
URL:https://lfgtonight.com/event/country-fridays-micheal-paul-brennan/
LOCATION:High Tide @ Nantasket Flatts\, 145 Nantasket avenue\, Hull\, MA\, 02045\, United States
CATEGORIES:Family Fun,Nightlife,Party
END:VEVENT
BEGIN:VEVENT
DTSTART;TZID=America/New_York:20241231T193000
DTEND;TZID=America/New_York:20241231T193000
DTSTAMP:20260423T210854
CREATED:20241126T155853Z
LAST-MODIFIED:20241203T180803Z
UID:327-1735673400-1735673400@lfgtonight.com
SUMMARY:NEW YEARS BASH!  SEAN McMAHON & THE AGREEABLE MEN with BAD ACTORS and opener ELBOW ROOM.
DESCRIPTION:Advance tickets $25.00 Door 35.00\, price includes food and champagne toast at midnight. Your PayPal receipt will be your ticket
URL:https://lfgtonight.com/event/new-years-bash-sean-mcmahon-the-agreeable-men-with-bad-actors-and-opener-elbow-room/
LOCATION:C Note\, 159 Nantasket Aveneu\, Hull\, MA\, 02045\, United States
CATEGORIES:live music,Nightlife,Party
END:VEVENT
BEGIN:VEVENT
DTSTART;TZID=America/New_York:20241228T190000
DTEND;TZID=America/New_York:20241228T190000
DTSTAMP:20260423T210854
CREATED:20241126T155532Z
LAST-MODIFIED:20241203T180951Z
UID:325-1735412400-1735412400@lfgtonight.com
SUMMARY:NEAL & THE VIPERS
DESCRIPTION:Check the link for updated details!
URL:https://lfgtonight.com/event/neal-the-vipers/
LOCATION:C Note\, 159 Nantasket Aveneu\, Hull\, MA\, 02045\, United States
CATEGORIES:live music,Nightlife,Party
END:VEVENT
BEGIN:VEVENT
DTSTART;TZID=America/New_York:20241227T193000
DTEND;TZID=America/New_York:20241227T193000
DTSTAMP:20260423T210854
CREATED:20241126T155330Z
LAST-MODIFIED:20241203T181030Z
UID:323-1735327800-1735327800@lfgtonight.com
SUMMARY:COWGIRLS IN THE BAND
DESCRIPTION:More details to come. Check website link for most current info!
URL:https://lfgtonight.com/event/cowgirls-in-the-band/
LOCATION:C Note\, 159 Nantasket Aveneu\, Hull\, MA\, 02045\, United States
CATEGORIES:live music,Nightlife,Party
END:VEVENT
BEGIN:VEVENT
DTSTART;TZID=America/New_York:20241227T180000
DTEND;TZID=America/New_York:20241227T210000
DTSTAMP:20260423T210854
CREATED:20241125T164352Z
LAST-MODIFIED:20241125T220824Z
UID:217-1735322400-1735333200@lfgtonight.com
SUMMARY:Country Fridays - Boxty Boston
DESCRIPTION:Get ready for many more Country Music Fridays at High Tides with Lily’s Craft Barbecue!\nGrab your boots\, hat\, and friends\, and join us for live country music every Friday!
URL:https://lfgtonight.com/event/country-fridays-boxty-boston/
LOCATION:High Tide @ Nantasket Flatts\, 145 Nantasket avenue\, Hull\, MA\, 02045\, United States
CATEGORIES:Family Fun,Nightlife,Party
END:VEVENT
BEGIN:VEVENT
DTSTART;TZID=America/New_York:20241221T200000
DTEND;TZID=America/New_York:20241222T010000
DTSTAMP:20260423T210854
CREATED:20241211T215336Z
LAST-MODIFIED:20241211T215336Z
UID:426-1734811200-1734829200@lfgtonight.com
SUMMARY:Ugly Sweater Party w/ DJ Dan
DESCRIPTION:The recent Saturday night old-school party was successful\, so DJ Dan is being brought back to do it all again. All of your favorite tunes from the past. Wear your favorite ugly Christmas sweaters for a lot of laughs.
URL:https://lfgtonight.com/event/ugly-sweater-party-w-dj-dan/
LOCATION:The Parrot\, 1 Hull Shore Drive\, Hull\, MA\, 02045\, United States
CATEGORIES:Nightlife
ATTACH;FMTTYPE=image/jpeg:https://tectolabs-web-assets.s3.us-east-2.amazonaws.com/lfgtonight_com/2024/12/11010059/the-parrot.jpg
END:VEVENT
BEGIN:VEVENT
DTSTART;TZID=America/New_York:20241221T193000
DTEND;TZID=America/New_York:20241221T193000
DTSTAMP:20260423T210854
CREATED:20241126T155138Z
LAST-MODIFIED:20241203T181156Z
UID:321-1734809400-1734809400@lfgtonight.com
SUMMARY:David Hull & The Dirty Angels
DESCRIPTION:more details to come (check link)
URL:https://lfgtonight.com/event/david-hull-the-dirty-angels/
LOCATION:C Note\, 159 Nantasket Aveneu\, Hull\, MA\, 02045\, United States
CATEGORIES:live music,Nightlife,Party
END:VEVENT
BEGIN:VEVENT
DTSTART;TZID=America/New_York:20241220T193000
DTEND;TZID=America/New_York:20241220T193000
DTSTAMP:20260423T210854
CREATED:20241126T155009Z
LAST-MODIFIED:20241203T181414Z
UID:319-1734723000-1734723000@lfgtonight.com
SUMMARY:HOLIDAY PARTY WITH THE BOULEVARD KINGS – also featuring CRAIG CARTER & THE HURRICANE
DESCRIPTION:$10.00. Your PayPal receipt is your ticket
URL:https://lfgtonight.com/event/holiday-party-with-the-boulevard-kings-also-featuring-craig-carter-the-hurricane/
LOCATION:C Note\, 159 Nantasket Aveneu\, Hull\, MA\, 02045\, United States
CATEGORIES:live music,Nightlife,Party
END:VEVENT
BEGIN:VEVENT
DTSTART;TZID=America/New_York:20241220T180000
DTEND;TZID=America/New_York:20241220T210000
DTSTAMP:20260423T210854
CREATED:20241211T213936Z
LAST-MODIFIED:20241211T213936Z
UID:423-1734717600-1734728400@lfgtonight.com
SUMMARY:Live Music - Jo's Nautical with Los Gallos Loco
DESCRIPTION:LGL from 6-9pm. No cover.
URL:https://lfgtonight.com/event/live-music-jos-nautical-with-los-gallos-loco/
LOCATION:Jo’s Nautical\, 125 main Street\, Hull\, MA\, 02045\, United States
CATEGORIES:live music,Nightlife
END:VEVENT
BEGIN:VEVENT
DTSTART;TZID=America/New_York:20241218T180000
DTEND;TZID=America/New_York:20241218T220000
DTSTAMP:20260423T210854
CREATED:20241203T170023Z
LAST-MODIFIED:20241203T170023Z
UID:379-1734544800-1734559200@lfgtonight.com
SUMMARY:Karaoke with Paul O - No Cover (Every Wed.)
DESCRIPTION:KARAOKE with PAUL Q NO COVER CHARGE: 6-10pm
URL:https://lfgtonight.com/event/karaoke-with-paul-o-no-cover-every-wed-2/
LOCATION:C Note\, 159 Nantasket Aveneu\, Hull\, MA\, 02045\, United States
CATEGORIES:Nightlife
END:VEVENT
BEGIN:VEVENT
DTSTART;TZID=America/New_York:20241214T193000
DTEND;TZID=America/New_York:20241214T193000
DTSTAMP:20260423T210854
CREATED:20241126T154554Z
LAST-MODIFIED:20241203T181618Z
UID:314-1734204600-1734204600@lfgtonight.com
SUMMARY:BOOTY VORTEX CHRISTMAS PARTY
DESCRIPTION:Get your spot early; Advance $18.00. Door (if any left) $30.00 Spots already filling\, get your spot early. Your PayPal receipt are your tickets.
URL:https://lfgtonight.com/event/booty-vortex-christmas-party/
LOCATION:C Note\, 159 Nantasket Aveneu\, Hull\, MA\, 02045\, United States
CATEGORIES:live music,Nightlife,Party
END:VEVENT
END:VCALENDAR