BEGIN:VCALENDAR
VERSION:2.0
PRODID:-//LFG TONIGHT - HULL - ECPv6.9.0//NONSGML v1.0//EN
CALSCALE:GREGORIAN
METHOD:PUBLISH
X-WR-CALNAME:LFG TONIGHT - HULL
X-ORIGINAL-URL:https://lfgtonight.com
X-WR-CALDESC:Events for LFG TONIGHT - HULL
REFRESH-INTERVAL;VALUE=DURATION:PT1H
X-Robots-Tag:noindex
X-PUBLISHED-TTL:PT1H
BEGIN:VTIMEZONE
TZID:America/New_York
BEGIN:DAYLIGHT
TZOFFSETFROM:-0500
TZOFFSETTO:-0400
TZNAME:EDT
DTSTART:20250309T070000
END:DAYLIGHT
BEGIN:STANDARD
TZOFFSETFROM:-0400
TZOFFSETTO:-0500
TZNAME:EST
DTSTART:20251102T060000
END:STANDARD
END:VTIMEZONE
BEGIN:VEVENT
DTSTART;TZID=America/New_York:20250608T173000
DTEND;TZID=America/New_York:20250608T203000
DTSTAMP:20260423T181234
CREATED:20250606T141850Z
LAST-MODIFIED:20250607T144233Z
UID:2139-1749403800-1749414600@lfgtonight.com
SUMMARY:Live Music @ The Drift!
DESCRIPTION:Join us for live music at Drift\, with the best sunsets in town!  \nCANCELED DUE TO Weather (but restaurant open) This Saturday\, 6/7 @5:30pm we’ll have Sam Luke Chase performing!\nSunday\, 6/8 we have Chris Ballerini performing @5:30pm!  \nHours of operation:\nThursday & Friday // 4-9\nSaturday & Sunday // 12-9\n(Hours will extend in the weeks to follow!) \nLocated at:\n48 George Washington Boulevard\n*inside the stream boat wharf Marina\, across from the carousel!
URL:https://lfgtonight.com/event/live-music-the-drift/
LOCATION:the drift\, 48 George Washington Boulevard\, Hull\, MA\, 02045\, United States
CATEGORIES:live music,Nightlife
ATTACH;FMTTYPE=image/jpeg:https://tectolabs-web-assets.s3.us-east-2.amazonaws.com/lfgtonight_com/2025/06/05011221/0681348F-EEED-4637-A8A4-9B6286108150.jpeg
END:VEVENT
BEGIN:VEVENT
DTSTART;TZID=America/New_York:20250607T203000
DTEND;TZID=America/New_York:20250608T000000
DTSTAMP:20260423T181234
CREATED:20250606T164122Z
LAST-MODIFIED:20250606T164122Z
UID:2167-1749328200-1749340800@lfgtonight.com
SUMMARY:DJ Mathmatik @ Typsy Tuna
DESCRIPTION:We’ve got the music\, the food\, the cocktails\, and the vibes. See you at Tipsy Tuna 🍤🎸 (check website for exact time)
URL:https://lfgtonight.com/event/dj-mathmatik-typsy-tuna/
LOCATION:Typsy Tuna\, 276 Nantasket Ave\, Hull\, MA\, 02045\, United States
CATEGORIES:Nightlife
ATTACH;FMTTYPE=image/jpeg:https://tectolabs-web-assets.s3.us-east-2.amazonaws.com/lfgtonight_com/2025/06/06163726/Screenshot-2025-06-06-123647.jpg
END:VEVENT
BEGIN:VEVENT
DTSTART;TZID=America/New_York:20250606T210000
DTEND;TZID=America/New_York:20250607T003000
DTSTAMP:20260423T181234
CREATED:20250603T180008Z
LAST-MODIFIED:20250603T180008Z
UID:2110-1749243600-1749256200@lfgtonight.com
SUMMARY:Dukes Blues live at Daddy's
DESCRIPTION:
URL:https://lfgtonight.com/event/dukes-blues-live-at-daddys/
LOCATION:Daddy’s Beach Club\, Hull\, MA
CATEGORIES:live music,Nightlife
ATTACH;FMTTYPE=image/jpeg:https://tectolabs-web-assets.s3.us-east-2.amazonaws.com/lfgtonight_com/2025/06/03180002/Daddys-June.jpg
END:VEVENT
BEGIN:VEVENT
DTSTART;TZID=America/New_York:20250606T200000
DTEND;TZID=America/New_York:20250606T233000
DTSTAMP:20260423T181234
CREATED:20250606T163949Z
LAST-MODIFIED:20250606T165728Z
UID:2164-1749240000-1749252600@lfgtonight.com
SUMMARY:Those Four - Live at Typsy Tuna
DESCRIPTION:We’ve got the music\, the food\, the cocktails\, and the vibes. See you at Tipsy Tuna 🍤🎸(Check website for exact time)
URL:https://lfgtonight.com/event/those-four-live-at-typsy-tuna/
LOCATION:Typsy Tuna\, 276 Nantasket Ave\, Hull\, MA\, 02045\, United States
CATEGORIES:live music,Nightlife
ATTACH;FMTTYPE=image/jpeg:https://tectolabs-web-assets.s3.us-east-2.amazonaws.com/lfgtonight_com/2025/06/06163726/Screenshot-2025-06-06-123647.jpg
END:VEVENT
BEGIN:VEVENT
DTSTART;TZID=America/New_York:20250606T180000
DTEND;TZID=America/New_York:20250606T210000
DTSTAMP:20260423T181234
CREATED:20250501T132805Z
LAST-MODIFIED:20250606T162508Z
UID:1744-1749232800-1749243600@lfgtonight.com
SUMMARY:Fridays with Foley (Special sub tonight is Jimmy Peters!) - every Friday @ High Tide (Flatts)
DESCRIPTION:Friday night acoustic with Jimmy Peters\, with amazing BBQ and local favorites until 9pm
URL:https://lfgtonight.com/event/fridays-with-foley-every-friday-high-tide-flatts-5/
LOCATION:High Tide @ Nantasket Flatts\, 145 Nantasket avenue\, Hull\, MA\, 02045\, United States
CATEGORIES:live music,Nightlife
ATTACH;FMTTYPE=image/jpeg:https://tectolabs-web-assets.s3.us-east-2.amazonaws.com/lfgtonight_com/2025/05/06162321/High-tonight.jpg
END:VEVENT
BEGIN:VEVENT
DTSTART;TZID=America/New_York:20250602T183000
DTEND;TZID=America/New_York:20250602T200000
DTSTAMP:20260423T181234
CREATED:20250321T182219Z
LAST-MODIFIED:20250415T144920Z
UID:1343-1748889000-1748894400@lfgtonight.com
SUMMARY:Beginner Country Line Dancing -Every Monday
DESCRIPTION:Join us every Monday night until the summer starts! Just a $5 contribution to the instructor.
URL:https://lfgtonight.com/event/beginner-country-line-dancing-every-monday/
LOCATION:Daddy’s Beach Club\, Hull\, MA
CATEGORIES:Family Fun,Nightlife
ATTACH;FMTTYPE=image/jpeg:https://tectolabs-web-assets.s3.us-east-2.amazonaws.com/lfgtonight_com/2025/03/21182210/line-dancing.jpg
END:VEVENT
BEGIN:VEVENT
DTSTART;TZID=America/New_York:20250531T210000
DTEND;TZID=America/New_York:20250601T003000
DTSTAMP:20260423T181234
CREATED:20250510T153437Z
LAST-MODIFIED:20250510T153437Z
UID:1852-1748725200-1748737800@lfgtonight.com
SUMMARY:Rock Island Cowboys live
DESCRIPTION:
URL:https://lfgtonight.com/event/rock-island-cowboys-live/
LOCATION:The Parrot\, 1 Hull Shore Drive\, Hull\, MA\, 02045\, United States
CATEGORIES:live music,Nightlife
ATTACH;FMTTYPE=image/jpeg:https://tectolabs-web-assets.s3.us-east-2.amazonaws.com/lfgtonight_com/2024/12/11010059/the-parrot.jpg
END:VEVENT
BEGIN:VEVENT
DTSTART;TZID=America/New_York:20250530T193000
DTEND;TZID=America/New_York:20250530T213000
DTSTAMP:20260423T181234
CREATED:20250505T134031Z
LAST-MODIFIED:20250505T134031Z
UID:1801-1748633400-1748640600@lfgtonight.com
SUMMARY:Stand-Up Comedy @ The Local
DESCRIPTION:Bringing the comedy scene to the South Shore! Join us Friday\, May 30th @ 7:30pm for our first ever comedy show at LOCAL 02045 3rd Floor! Event information posted in image!!\nGET YOUR TICKETS NOW! See you there 😎
URL:https://lfgtonight.com/event/stand-up-comedy-the-local/
LOCATION:The Local 02045\, 2 A Street\, Hull\, MA\, 02045\, United States
CATEGORIES:Family Fun,Nightlife
END:VEVENT
BEGIN:VEVENT
DTSTART;TZID=America/New_York:20250525T213000
DTEND;TZID=America/New_York:20250526T003000
DTSTAMP:20260423T181234
CREATED:20250524T083444Z
LAST-MODIFIED:20250524T083444Z
UID:1969-1748208600-1748219400@lfgtonight.com
SUMMARY:Overserved Again - live @ Typsy Tuna
DESCRIPTION:
URL:https://lfgtonight.com/event/overserved-again-live-typsy-tuna/
LOCATION:Typsy Tuna\, 276 Nantasket Ave\, Hull\, MA\, 02045\, United States
CATEGORIES:live music,Nightlife
ATTACH;FMTTYPE=image/jpeg:https://tectolabs-web-assets.s3.us-east-2.amazonaws.com/lfgtonight_com/2025/05/24083011/IMG_20250524_102953.jpg
END:VEVENT
BEGIN:VEVENT
DTSTART;TZID=America/New_York:20250523T210000
DTEND;TZID=America/New_York:20250524T003000
DTSTAMP:20260423T181234
CREATED:20250510T162302Z
LAST-MODIFIED:20250510T162302Z
UID:1876-1748034000-1748046600@lfgtonight.com
SUMMARY:Clash Burn live
DESCRIPTION:
URL:https://lfgtonight.com/event/clash-burn-live/
LOCATION:Daddy’s Beach Club\, Hull\, MA
CATEGORIES:live music,Nightlife
END:VEVENT
BEGIN:VEVENT
DTSTART;TZID=America/New_York:20250523T210000
DTEND;TZID=America/New_York:20250524T003000
DTSTAMP:20260423T181234
CREATED:20250510T153122Z
LAST-MODIFIED:20250510T153122Z
UID:1848-1748034000-1748046600@lfgtonight.com
SUMMARY:DJ Mathmatik
DESCRIPTION:
URL:https://lfgtonight.com/event/dj-mathmatik/
LOCATION:The Parrot\, 1 Hull Shore Drive\, Hull\, MA\, 02045\, United States
CATEGORIES:Nightlife
ATTACH;FMTTYPE=image/jpeg:https://tectolabs-web-assets.s3.us-east-2.amazonaws.com/lfgtonight_com/2024/12/11010059/the-parrot.jpg
END:VEVENT
BEGIN:VEVENT
DTSTART;TZID=America/New_York:20250523T190000
DTEND;TZID=America/New_York:20250523T220000
DTSTAMP:20260423T181234
CREATED:20250521T084634Z
LAST-MODIFIED:20250521T112935Z
UID:1941-1748026800-1748037600@lfgtonight.com
SUMMARY:DJ Bobby @ Jo's
DESCRIPTION:Mixes grooves rock\, dance and pop. 80’s style!
URL:https://lfgtonight.com/event/dj-bobby-jos/
LOCATION:Jo’s Nautical\, 125 main Street\, Hull\, MA\, 02045\, United States
CATEGORIES:Nightlife
ATTACH;FMTTYPE=image/png:https://tectolabs-web-assets.s3.us-east-2.amazonaws.com/lfgtonight_com/2025/05/21112927/Messenger_creation_29559981216983384.png
END:VEVENT
BEGIN:VEVENT
DTSTART;TZID=America/New_York:20250517T210000
DTEND;TZID=America/New_York:20250518T003000
DTSTAMP:20260423T181234
CREATED:20250510T153008Z
LAST-MODIFIED:20250515T150206Z
UID:1846-1747515600-1747528200@lfgtonight.com
SUMMARY:Good Trees River Band
DESCRIPTION:
URL:https://lfgtonight.com/event/good-trees-river-band/
LOCATION:The Parrot\, 1 Hull Shore Drive\, Hull\, MA\, 02045\, United States
CATEGORIES:live music,Nightlife
ATTACH;FMTTYPE=image/jpeg:https://tectolabs-web-assets.s3.us-east-2.amazonaws.com/lfgtonight_com/2025/05/15150155/FB_IMG_1747321264354.jpg
END:VEVENT
BEGIN:VEVENT
DTSTART;TZID=America/New_York:20250516T180000
DTEND;TZID=America/New_York:20250516T210000
DTSTAMP:20260423T181234
CREATED:20250307T205000Z
LAST-MODIFIED:20250307T205000Z
UID:1178-1747418400-1747429200@lfgtonight.com
SUMMARY:The Old 45s - Live @ Jo's
DESCRIPTION:Join us for the Old 45’s for a night of classic rock!
URL:https://lfgtonight.com/event/the-old-45s-live-jos/
LOCATION:Jo’s Nautical\, 125 main Street\, Hull\, MA\, 02045\, United States
CATEGORIES:live music,Nightlife
END:VEVENT
BEGIN:VEVENT
DTSTART;TZID=America/New_York:20250511T160000
DTEND;TZID=America/New_York:20250511T193000
DTSTAMP:20260423T181234
CREATED:20250131T165123Z
LAST-MODIFIED:20250509T132345Z
UID:677-1746979200-1746991800@lfgtonight.com
SUMMARY:Mother's Day Open Mic Night/Specials! - every Sunday
DESCRIPTION:MOTHER DAYAT JO’S BAR\n Come on down this weekend\, we’re celebrating Mother’s Day at Jo’s. To honor the cherished memory of Joe’s Mother\, Joan Grey Acone McWade\, this week’s sandwich will be a Spicy Italian Sub with her favorite\, Devil Dogs. As well\, a gift for the Mother’s while they last\, a starter Sunflower that he grew from a seed with garden gloves\, a growing pot\, and crazy socks. (Joan loved to Garden and wear fun socks) Oh\, plus there will be great songs performed by great artsy people.
URL:https://lfgtonight.com/event/open-mic-night-every-sunday-5/
LOCATION:Jo’s Nautical\, 125 main Street\, Hull\, MA\, 02045\, United States
CATEGORIES:Family Fun,Nightlife
ATTACH;FMTTYPE=image/png:https://tectolabs-web-assets.s3.us-east-2.amazonaws.com/lfgtonight_com/2025/01/09132250/Messenger_creation_2066856150474387.png
END:VEVENT
BEGIN:VEVENT
DTSTART;TZID=America/New_York:20250510T210000
DTEND;TZID=America/New_York:20250511T003000
DTSTAMP:20260423T181234
CREATED:20250509T170122Z
LAST-MODIFIED:20250509T170122Z
UID:1838-1746910800-1746923400@lfgtonight.com
SUMMARY:RBN3 - live music @ Daddy's
DESCRIPTION:
URL:https://lfgtonight.com/event/rbn3-live-music-daddys/
LOCATION:Daddy’s Beach Club\, Hull\, MA
CATEGORIES:live music,Nightlife
END:VEVENT
BEGIN:VEVENT
DTSTART;TZID=America/New_York:20250510T200000
DTEND;TZID=America/New_York:20250511T000000
DTSTAMP:20260423T181234
CREATED:20250428T132008Z
LAST-MODIFIED:20250428T132613Z
UID:1695-1746907200-1746921600@lfgtonight.com
SUMMARY:DJ Dan  - Country Night!
DESCRIPTION:You asked for and we are gonna do it break out your cowboy boots and your flannels we are gonna be rocking all your favorite country tunes all night long everything from Luke Combs to Brooks n Dunn.  It’s gonna be a fun night hope to see you all there…
URL:https://lfgtonight.com/event/dj-dan-country-night/
LOCATION:The Parrot\, 1 Hull Shore Drive\, Hull\, MA\, 02045\, United States
CATEGORIES:Nightlife,Party
ATTACH;FMTTYPE=image/jpeg:https://tectolabs-web-assets.s3.us-east-2.amazonaws.com/lfgtonight_com/2025/04/28132607/dj-dan-country.jpg
END:VEVENT
BEGIN:VEVENT
DTSTART;TZID=America/New_York:20250505T183000
DTEND;TZID=America/New_York:20250505T200000
DTSTAMP:20260423T181234
CREATED:20250321T182513Z
LAST-MODIFIED:20250321T183033Z
UID:1349-1746469800-1746475200@lfgtonight.com
SUMMARY:Beginner Country Line Dancing -Every Monday
DESCRIPTION:Join us every Monday night until the summer starts! Just a $5 contribution to the instructor.
URL:https://lfgtonight.com/event/beginner-country-line-dancing-every-monday-7/
LOCATION:Daddy’s Beach Club\, Hull\, MA
CATEGORIES:Family Fun,Nightlife
ATTACH;FMTTYPE=image/jpeg:https://tectolabs-web-assets.s3.us-east-2.amazonaws.com/lfgtonight_com/2025/03/21182210/line-dancing.jpg
END:VEVENT
BEGIN:VEVENT
DTSTART;TZID=America/New_York:20250503T180000
DTEND;TZID=America/New_York:20250503T233000
DTSTAMP:20260423T181234
CREATED:20250501T133551Z
LAST-MODIFIED:20250501T133551Z
UID:1752-1746295200-1746315000@lfgtonight.com
SUMMARY:Kentucky Derby Day @ the Flatts
DESCRIPTION:Exhausted from running your own marathon all week? Join us for a relaxing evening with a chilled Mint Julep 🍃🥃 as we let someone else do all the running in the 151st Kentucky Derby! The big day is Saturday\, May 3 – the main event begins at 7pm\, so arrive early to secure your spot!
URL:https://lfgtonight.com/event/kentucky-derby-day-the-flatts/
LOCATION:High Tide @ Nantasket Flatts\, 145 Nantasket avenue\, Hull\, MA\, 02045\, United States
CATEGORIES:Nightlife,Party
ATTACH;FMTTYPE=image/jpeg:https://tectolabs-web-assets.s3.us-east-2.amazonaws.com/lfgtonight_com/2025/05/01133540/derby-flatts.jpg
END:VEVENT
BEGIN:VEVENT
DTSTART;TZID=America/New_York:20250421T200000
DTEND;TZID=America/New_York:20250421T223000
DTSTAMP:20260423T181234
CREATED:20250421T150523Z
LAST-MODIFIED:20250421T150523Z
UID:1656-1745265600-1745274600@lfgtonight.com
SUMMARY:Tonight @ Daddy's - Luis D'Elias
DESCRIPTION:Beachside songs from the soul….
URL:https://lfgtonight.com/event/tonight-daddys-luis-delias/
LOCATION:Daddy’s Beach Club\, Hull\, MA
CATEGORIES:live music,Nightlife
ATTACH;FMTTYPE=image/jpeg:https://tectolabs-web-assets.s3.us-east-2.amazonaws.com/lfgtonight_com/2025/04/21150400/Daddy-4.21.jpg
END:VEVENT
BEGIN:VEVENT
DTSTART;TZID=America/New_York:20250419T190000
DTEND;TZID=America/New_York:20250419T213000
DTSTAMP:20260423T181234
CREATED:20250415T124949Z
LAST-MODIFIED:20250415T131249Z
UID:1544-1745089200-1745098200@lfgtonight.com
SUMMARY:Pemberton All-Stars - Live music at Jo's
DESCRIPTION:Join the Pemberton All-Stars for some Rock and Roll on April 19th!  The Saturday before Easter.  Seeya there
URL:https://lfgtonight.com/event/pemberton-all-stars-live-music-at-jos/
LOCATION:Jo’s Nautical\, 125 main Street\, Hull\, MA\, 02045\, United States
CATEGORIES:live music,Nightlife
END:VEVENT
BEGIN:VEVENT
DTSTART;TZID=America/New_York:20250418T193000
DTEND;TZID=America/New_York:20250419T013000
DTSTAMP:20260423T181234
CREATED:20250418T161840Z
LAST-MODIFIED:20250418T161922Z
UID:1610-1745004600-1745026200@lfgtonight.com
SUMMARY:Worm "Eye in the Sky" video shoot w/Far above ground - Live C note
DESCRIPTION:Wreckless Wreck Chords\nPresents\n730Pm Doors 21+ 12$ At the door\nTickets @ http://cnotehull.com/\nWorm Is Shooting Some Footage for a Music Video for their new Song “Eye In The Sky” For their Up Coming Release in June For their New Album Slave Driver \nwww.Facebook.com/Wormpunk\nWith Friends\nWitches Tears To Headline\nwww.facebook.com/witchestearsmass666\nFar Above the Ground\nwww.facebook.com/Farabovetheground\nC.O.B.\nwww.facebook.com/profile.php?id=100062964294429\nThe Wax Skulls\nwww.facebook.com/thewaxskulls
URL:https://lfgtonight.com/event/worm-eye-in-the-sky-video-shoot-w-far-above-ground-live-c-note/
LOCATION:C Note\, 159 Nantasket Aveneu\, Hull\, MA\, 02045\, United States
CATEGORIES:live music,Nightlife
ATTACH;FMTTYPE=image/jpeg:https://tectolabs-web-assets.s3.us-east-2.amazonaws.com/lfgtonight_com/2025/04/18161833/CNOTE.jpg
END:VEVENT
BEGIN:VEVENT
DTSTART;TZID=America/New_York:20250411T200000
DTEND;TZID=America/New_York:20250411T230000
DTSTAMP:20260423T181234
CREATED:20250409T210621Z
LAST-MODIFIED:20250409T210621Z
UID:1518-1744401600-1744412400@lfgtonight.com
SUMMARY:Denis O'Gorman - live music @ the Parrot
DESCRIPTION:
URL:https://lfgtonight.com/event/denis-ogorman-live-music-the-parrot/
LOCATION:The Parrot\, 1 Hull Shore Drive\, Hull\, MA\, 02045\, United States
CATEGORIES:live music,Nightlife
ATTACH;FMTTYPE=image/jpeg:https://tectolabs-web-assets.s3.us-east-2.amazonaws.com/lfgtonight_com/2024/11/11010048/the-parrot-1.jpg
END:VEVENT
BEGIN:VEVENT
DTSTART;TZID=America/New_York:20250405T190000
DTEND;TZID=America/New_York:20250405T220000
DTSTAMP:20260423T181234
CREATED:20250207T150856Z
LAST-MODIFIED:20250304T193037Z
UID:826-1743879600-1743890400@lfgtonight.com
SUMMARY:BIG DISCO Night @ Jo's
DESCRIPTION:DISCO COMES TO JO’s BAR HULL MA… A NIGHT YOU WILL NOT FORGET ‘… WE ARE SMALL BUT DO THINGS BIG… NEW LIGHTING… NEW SOUND  ..  WE HAVE A DISCO BALL…ALSO A RED CARPET WALK ….AND MORE !!!      NEVER A COVER CHARGE..    7PM TO 1OPM  OR LONGER!!!
URL:https://lfgtonight.com/event/coming-soon-big-disco-night-jos-in-march/
LOCATION:Jo’s Nautical\, 125 main Street\, Hull\, MA\, 02045\, United States
CATEGORIES:Nightlife,Party
ATTACH;FMTTYPE=image/png:https://tectolabs-web-assets.s3.us-east-2.amazonaws.com/lfgtonight_com/2025/02/04192909/JOs-Disco-NEW.png
END:VEVENT
BEGIN:VEVENT
DTSTART;TZID=America/New_York:20250329T190000
DTEND;TZID=America/New_York:20250329T213000
DTSTAMP:20260423T181234
CREATED:20250221T133551Z
LAST-MODIFIED:20250310T143341Z
UID:1032-1743274800-1743283800@lfgtonight.com
SUMMARY:Sing Along with Mel @ HighTide
DESCRIPTION:A special Saturday night Piano Bar with Mel Stiller! Entertaining crowds in Boston for more than 35 years. The proximity of the piano to the patrons\, and Mel’s interaction with the crowd\, adds to the piano bar’s uniqueness. Reservations strongly recommended for this event!!! Call 781-773-4402 for reservations.
URL:https://lfgtonight.com/event/sing-along-with-mel-hightide/
LOCATION:High Tide @ Nantasket Flatts\, 145 Nantasket avenue\, Hull\, MA\, 02045\, United States
CATEGORIES:live music,Nightlife
ATTACH;FMTTYPE=image/jpeg:https://tectolabs-web-assets.s3.us-east-2.amazonaws.com/lfgtonight_com/2025/02/10141102/Mel-Siller.jpg
END:VEVENT
BEGIN:VEVENT
DTSTART;TZID=America/New_York:20250329T180000
DTEND;TZID=America/New_York:20250329T210000
DTSTAMP:20260423T181234
CREATED:20250310T160235Z
LAST-MODIFIED:20250329T175903Z
UID:1233-1743271200-1743282000@lfgtonight.com
SUMMARY:Renburke's Rovers - Live @ the Pub
DESCRIPTION:
URL:https://lfgtonight.com/event/renburkes-rovers-live-the-pub/
LOCATION:The Parrot\, 1 Hull Shore Drive\, Hull\, MA\, 02045\, United States
CATEGORIES:live music,Nightlife
ATTACH;FMTTYPE=image/jpeg:https://tectolabs-web-assets.s3.us-east-2.amazonaws.com/lfgtonight_com/2024/11/11010053/the-parrot-2.jpg
END:VEVENT
BEGIN:VEVENT
DTSTART;TZID=America/New_York:20250328T200000
DTEND;TZID=America/New_York:20250328T230000
DTSTAMP:20260423T181234
CREATED:20250310T160120Z
LAST-MODIFIED:20250310T160120Z
UID:1231-1743192000-1743202800@lfgtonight.com
SUMMARY:Sean Mcglaughlin - Live @ the Pub
DESCRIPTION:
URL:https://lfgtonight.com/event/sean-mcglaughlin-live-the-pub/
LOCATION:The Parrot\, 1 Hull Shore Drive\, Hull\, MA\, 02045\, United States
CATEGORIES:live music,Nightlife
ATTACH;FMTTYPE=image/jpeg:https://tectolabs-web-assets.s3.us-east-2.amazonaws.com/lfgtonight_com/2024/11/11010053/the-parrot-2.jpg
END:VEVENT
BEGIN:VEVENT
DTSTART;TZID=America/New_York:20250328T190000
DTEND;TZID=America/New_York:20250328T220000
DTSTAMP:20260423T181234
CREATED:20250206T191907Z
LAST-MODIFIED:20250206T191907Z
UID:797-1743188400-1743199200@lfgtonight.com
SUMMARY:Live Music - Billy & the Goats
DESCRIPTION:Save the date\, y’all!  FRIDAY 28th of March @ 7PM.  Lots of new (to us) tunes.  Some special Guest Artists\, of course.  See you soon!
URL:https://lfgtonight.com/event/live-music-billy-the-goats/
LOCATION:Jo’s Nautical\, 125 main Street\, Hull\, MA\, 02045\, United States
CATEGORIES:live music,Nightlife
END:VEVENT
BEGIN:VEVENT
DTSTART;TZID=America/New_York:20250323T200000
DTEND;TZID=America/New_York:20250323T230000
DTSTAMP:20260423T181234
CREATED:20250310T155944Z
LAST-MODIFIED:20250310T155944Z
UID:1229-1742760000-1742770800@lfgtonight.com
SUMMARY:Johnny & Stu - Live at the Pub
DESCRIPTION:
URL:https://lfgtonight.com/event/johnny-stu-live-at-the-pub/
LOCATION:The Parrot\, 1 Hull Shore Drive\, Hull\, MA\, 02045\, United States
CATEGORIES:live music,Nightlife
ATTACH;FMTTYPE=image/jpeg:https://tectolabs-web-assets.s3.us-east-2.amazonaws.com/lfgtonight_com/2024/11/11010053/the-parrot-2.jpg
END:VEVENT
BEGIN:VEVENT
DTSTART;TZID=America/New_York:20250322T200000
DTEND;TZID=America/New_York:20250322T230000
DTSTAMP:20260423T181234
CREATED:20250301T005807Z
LAST-MODIFIED:20250310T155831Z
UID:1119-1742673600-1742684400@lfgtonight.com
SUMMARY:Chucky AR LA @the Parrrot
DESCRIPTION:Paddys whiskey tasting 8- and Sullivans 7-9pm.
URL:https://lfgtonight.com/event/chucky-ar-la-the-parrrot/
LOCATION:The Parrot\, 1 Hull Shore Drive\, Hull\, MA\, 02045\, United States
CATEGORIES:live music,Nightlife
ATTACH;FMTTYPE=image/jpeg:https://tectolabs-web-assets.s3.us-east-2.amazonaws.com/lfgtonight_com/2024/11/11010048/the-parrot-1.jpg
END:VEVENT
END:VCALENDAR