BEGIN:VCALENDAR
VERSION:2.0
PRODID:-//LFG TONIGHT - HULL - ECPv6.9.0//NONSGML v1.0//EN
CALSCALE:GREGORIAN
METHOD:PUBLISH
X-WR-CALNAME:LFG TONIGHT - HULL
X-ORIGINAL-URL:https://lfgtonight.com
X-WR-CALDESC:Events for LFG TONIGHT - HULL
REFRESH-INTERVAL;VALUE=DURATION:PT1H
X-Robots-Tag:noindex
X-PUBLISHED-TTL:PT1H
BEGIN:VTIMEZONE
TZID:America/New_York
BEGIN:DAYLIGHT
TZOFFSETFROM:-0500
TZOFFSETTO:-0400
TZNAME:EDT
DTSTART:20250309T070000
END:DAYLIGHT
BEGIN:STANDARD
TZOFFSETFROM:-0400
TZOFFSETTO:-0500
TZNAME:EST
DTSTART:20251102T060000
END:STANDARD
END:VTIMEZONE
BEGIN:VEVENT
DTSTART;TZID=America/New_York:20250718T190000
DTEND;TZID=America/New_York:20250718T220000
DTSTAMP:20260423T165436
CREATED:20250716T152326Z
LAST-MODIFIED:20250716T152609Z
UID:2732-1752865200-1752876000@lfgtonight.com
SUMMARY:Summer Sizzle Dance Party - At Jo's with DJ Bobby
DESCRIPTION:
URL:https://lfgtonight.com/event/summer-sizzle-dance-party-at-jos-with-dj-bobby/
LOCATION:Jo’s Nautical\, 125 main Street\, Hull\, MA\, 02045\, United States
CATEGORIES:Nightlife,Party
ATTACH;FMTTYPE=image/jpeg:https://tectolabs-web-assets.s3.us-east-2.amazonaws.com/lfgtonight_com/2025/07/16152316/JOES-july-18.jpg
END:VEVENT
BEGIN:VEVENT
DTSTART;TZID=America/New_York:20250716T180000
DTEND;TZID=America/New_York:20250716T210000
DTSTAMP:20260423T165436
CREATED:20250609T154138Z
LAST-MODIFIED:20250609T154138Z
UID:2242-1752688800-1752699600@lfgtonight.com
SUMMARY:Wharf Rat Wednesdays - Live Music with Joshua Metz
DESCRIPTION:June 11th – July 23rd (Wednesdays)
URL:https://lfgtonight.com/event/wharf-rat-wednesdays-live-music-with-joshua-metz-6/
LOCATION:Daddy’s Beach Club\, Hull\, MA
CATEGORIES:live music,Nightlife
ATTACH;FMTTYPE=image/jpeg:https://tectolabs-web-assets.s3.us-east-2.amazonaws.com/lfgtonight_com/2025/06/09153606/Daddys-june-11-to-july-23-or-8-joshua-metz.jpg
END:VEVENT
BEGIN:VEVENT
DTSTART;TZID=America/New_York:20250713T160000
DTEND;TZID=America/New_York:20250713T190000
DTSTAMP:20260423T165436
CREATED:20250603T173941Z
LAST-MODIFIED:20250603T173941Z
UID:2102-1752422400-1752433200@lfgtonight.com
SUMMARY:Vicky Lynch live at the Parrot
DESCRIPTION:
URL:https://lfgtonight.com/event/vicky-lynch-live-at-the-parrot/
LOCATION:The Parrot\, 1 Hull Shore Drive\, Hull\, MA\, 02045\, United States
CATEGORIES:Family Fun,live music,Nightlife
ATTACH;FMTTYPE=image/jpeg:https://tectolabs-web-assets.s3.us-east-2.amazonaws.com/lfgtonight_com/2024/11/11010048/the-parrot-1.jpg
END:VEVENT
BEGIN:VEVENT
DTSTART;TZID=America/New_York:20250709T180000
DTEND;TZID=America/New_York:20250709T210000
DTSTAMP:20260423T165436
CREATED:20250609T154045Z
LAST-MODIFIED:20250609T154045Z
UID:2240-1752084000-1752094800@lfgtonight.com
SUMMARY:Wharf Rat Wednesdays - Live Music with Joshua Metz
DESCRIPTION:June 11th – July 23rd (Wednesdays)
URL:https://lfgtonight.com/event/wharf-rat-wednesdays-live-music-with-joshua-metz-5/
LOCATION:Daddy’s Beach Club\, Hull\, MA
CATEGORIES:live music,Nightlife
ATTACH;FMTTYPE=image/jpeg:https://tectolabs-web-assets.s3.us-east-2.amazonaws.com/lfgtonight_com/2025/06/09153606/Daddys-june-11-to-july-23-or-8-joshua-metz.jpg
END:VEVENT
BEGIN:VEVENT
DTSTART;TZID=America/New_York:20250706T150000
DTEND;TZID=America/New_York:20250706T180000
DTSTAMP:20260423T165436
CREATED:20250703T174518Z
LAST-MODIFIED:20250703T174518Z
UID:2601-1751814000-1751824800@lfgtonight.com
SUMMARY:Live Music at High Tide
DESCRIPTION:HAPPY 4th of JULY!!  Open and ready for you — the weather looks amazing.  Join us on the patio — before the beach\, after the beach\, before the fireworks & bonfires  — great food\, live music and holiday weekend fun.   \nSPECIAL HOLIDAY HOURS —  WED 7/3 OPEN 4pm.  FRI 4th of JULY at 12noon!!  SAT 7/5 and SUN 7/6 Open 12 noon.\nWe have a great line up of live music FRi\, SAT and SUN.   \n#hightidesgoodvibes #4thofJuly #livemusic#SummerVibes #southshorema #southshoreliving #southshorefoodies #bbqlife #patiovibes #hullchamber #hulltimes \n145 Nantasket Avenue\nHull\, MA 02045\n781-773-1402 \nLocated directly across from NANTASKET BEACH.  Free parking in the DCR lot everyday after 4pm.
URL:https://lfgtonight.com/event/live-music-at-high-tide-2/
LOCATION:High Tide @ Nantasket Flatts\, 145 Nantasket avenue\, Hull\, MA\, 02045\, United States
CATEGORIES:Family Fun,live music,Nightlife
ATTACH;FMTTYPE=image/jpeg:https://tectolabs-web-assets.s3.us-east-2.amazonaws.com/lfgtonight_com/2025/04/03174047/FB_IMG_1751564397491.jpg
END:VEVENT
BEGIN:VEVENT
DTSTART;TZID=America/New_York:20250705T190000
DTEND;TZID=America/New_York:20250705T230000
DTSTAMP:20260423T165436
CREATED:20250701T131027Z
LAST-MODIFIED:20250701T131053Z
UID:2553-1751742000-1751756400@lfgtonight.com
SUMMARY:Classic Vibe @ Tipsy Tuna
DESCRIPTION:Saturday July 5th we make our season debut and bring the reggae party to Tipsy Tuna in Hull. Early performance hours so come early.
URL:https://lfgtonight.com/event/classic-vibe-tipsy-tuna/
LOCATION:Typsy Tuna\, 276 Nantasket Ave\, Hull\, MA\, 02045\, United States
CATEGORIES:live music,Nightlife
ATTACH;FMTTYPE=image/jpeg:https://tectolabs-web-assets.s3.us-east-2.amazonaws.com/lfgtonight_com/2025/07/01131022/499591922_1300507482076525_7185139194835450153_n.jpg
END:VEVENT
BEGIN:VEVENT
DTSTART;TZID=America/New_York:20250705T190000
DTEND;TZID=America/New_York:20250705T220000
DTSTAMP:20260423T165436
CREATED:20250529T143928Z
LAST-MODIFIED:20250627T144049Z
UID:2004-1751742000-1751752800@lfgtonight.com
SUMMARY:Pemberton All-Stars live at Jo's Nautical
DESCRIPTION:Always no cover!!
URL:https://lfgtonight.com/event/pemberton-all-stars-live-at-jos-nautical/
LOCATION:Jo’s Nautical\, 125 main Street\, Hull\, MA\, 02045\, United States
CATEGORIES:live music,Nightlife
ATTACH;FMTTYPE=image/jpeg:https://tectolabs-web-assets.s3.us-east-2.amazonaws.com/lfgtonight_com/2025/05/27144042/XXXXXXXXXXXXXXXXXXXXXXXX.jpg
END:VEVENT
BEGIN:VEVENT
DTSTART;TZID=America/New_York:20250705T160000
DTEND;TZID=America/New_York:20250705T220000
DTSTAMP:20260423T165436
CREATED:20250703T174323Z
LAST-MODIFIED:20250703T174323Z
UID:2599-1751731200-1751752800@lfgtonight.com
SUMMARY:Live music at High Tide
DESCRIPTION:HAPPY 4th of JULY!!  Open and ready for you — the weather looks amazing.  Join us on the patio — before the beach\, after the beach\, before the fireworks & bonfires  — great food\, live music and holiday weekend fun.   \nSPECIAL HOLIDAY HOURS —  WED 7/3 OPEN 4pm.  FRI 4th of JULY at 12noon!!  SAT 7/5 and SUN 7/6 Open 12 noon.\nWe have a great line up of live music FRi\, SAT and SUN.   \n#hightidesgoodvibes #4thofJuly #livemusic#SummerVibes #southshorema #southshoreliving #southshorefoodies #bbqlife #patiovibes #hullchamber #hulltimes \n145 Nantasket Avenue\nHull\, MA 02045\n781-773-1402 \nLocated directly across from NANTASKET BEACH.  Free parking in the DCR lot everyday after 4pm.
URL:https://lfgtonight.com/event/live-music-at-high-tide/
LOCATION:High Tide @ Nantasket Flatts\, 145 Nantasket avenue\, Hull\, MA\, 02045\, United States
CATEGORIES:Family Fun,live music,Nightlife
ATTACH;FMTTYPE=image/jpeg:https://tectolabs-web-assets.s3.us-east-2.amazonaws.com/lfgtonight_com/2025/04/03174047/FB_IMG_1751564397491.jpg
END:VEVENT
BEGIN:VEVENT
DTSTART;TZID=America/New_York:20250704T180000
DTEND;TZID=America/New_York:20250704T210000
DTSTAMP:20260423T165436
CREATED:20250404T152134Z
LAST-MODIFIED:20250703T174103Z
UID:1480-1751652000-1751662800@lfgtonight.com
SUMMARY:Dave Foley Live @ the Flatts/High Tide
DESCRIPTION:Join us for an unforgettable evening with Hull’s favorite\, Dave Foley! Enjoy a night of great music and entertainment from Dave on the floor and the ladies singing and slinging from behind the pine . 6-9 PM. Don’t miss out on the fun!
URL:https://lfgtonight.com/event/dave-foley-live-the-flatts-high-tide/
LOCATION:High Tide @ Nantasket Flatts\, 145 Nantasket avenue\, Hull\, MA\, 02045\, United States
CATEGORIES:live music,Nightlife
ATTACH;FMTTYPE=image/jpeg:https://tectolabs-web-assets.s3.us-east-2.amazonaws.com/lfgtonight_com/2025/04/03174047/FB_IMG_1751564397491.jpg
END:VEVENT
BEGIN:VEVENT
DTSTART;TZID=America/New_York:20250702T180000
DTEND;TZID=America/New_York:20250702T210000
DTSTAMP:20260423T165436
CREATED:20250609T153953Z
LAST-MODIFIED:20250609T153953Z
UID:2238-1751479200-1751490000@lfgtonight.com
SUMMARY:Wharf Rat Wednesdays - Live Music with Joshua Metz
DESCRIPTION:June 11th – July 23rd (Wednesdays)
URL:https://lfgtonight.com/event/wharf-rat-wednesdays-live-music-with-joshua-metz-4/
LOCATION:Daddy’s Beach Club\, Hull\, MA
CATEGORIES:live music,Nightlife
ATTACH;FMTTYPE=image/jpeg:https://tectolabs-web-assets.s3.us-east-2.amazonaws.com/lfgtonight_com/2025/06/09153606/Daddys-june-11-to-july-23-or-8-joshua-metz.jpg
END:VEVENT
BEGIN:VEVENT
DTSTART;TZID=America/New_York:20250625T180000
DTEND;TZID=America/New_York:20250625T210000
DTSTAMP:20260423T165436
CREATED:20250609T153904Z
LAST-MODIFIED:20250609T153904Z
UID:2236-1750874400-1750885200@lfgtonight.com
SUMMARY:Wharf Rat Wednesdays - Live Music with Joshua Metz
DESCRIPTION:June 11th – July 23rd (Wednesdays)
URL:https://lfgtonight.com/event/wharf-rat-wednesdays-live-music-with-joshua-metz-3/
LOCATION:Daddy’s Beach Club\, Hull\, MA
CATEGORIES:live music,Nightlife
ATTACH;FMTTYPE=image/jpeg:https://tectolabs-web-assets.s3.us-east-2.amazonaws.com/lfgtonight_com/2025/06/09153606/Daddys-june-11-to-july-23-or-8-joshua-metz.jpg
END:VEVENT
BEGIN:VEVENT
DTSTART;TZID=America/New_York:20250623T183000
DTEND;TZID=America/New_York:20250623T200000
DTSTAMP:20260423T165436
CREATED:20250321T182325Z
LAST-MODIFIED:20250415T145049Z
UID:1346-1750703400-1750708800@lfgtonight.com
SUMMARY:Beginner Country Line Dancing -Every Monday
DESCRIPTION:Join us every Monday night until the summer starts! Just a $5 contribution to the instructor.
URL:https://lfgtonight.com/event/beginner-country-line-dancing-every-monday-3/
LOCATION:Daddy’s Beach Club\, Hull\, MA
CATEGORIES:Family Fun,Nightlife
ATTACH;FMTTYPE=image/jpeg:https://tectolabs-web-assets.s3.us-east-2.amazonaws.com/lfgtonight_com/2025/03/21182210/line-dancing.jpg
END:VEVENT
BEGIN:VEVENT
DTSTART;TZID=America/New_York:20250621T210000
DTEND;TZID=America/New_York:20250622T003000
DTSTAMP:20260423T165436
CREATED:20250510T155016Z
LAST-MODIFIED:20250510T155016Z
UID:1864-1750539600-1750552200@lfgtonight.com
SUMMARY:Rock Island Cowboys - live
DESCRIPTION:
URL:https://lfgtonight.com/event/rock-island-cowboys-live-2/
LOCATION:The Parrot\, 1 Hull Shore Drive\, Hull\, MA\, 02045\, United States
CATEGORIES:live music,Nightlife
ATTACH;FMTTYPE=image/jpeg:https://tectolabs-web-assets.s3.us-east-2.amazonaws.com/lfgtonight_com/2024/12/11010059/the-parrot.jpg
END:VEVENT
BEGIN:VEVENT
DTSTART;TZID=America/New_York:20250621T200000
DTEND;TZID=America/New_York:20250621T230000
DTSTAMP:20260423T165436
CREATED:20250620T184256Z
LAST-MODIFIED:20250620T184256Z
UID:2379-1750536000-1750546800@lfgtonight.com
SUMMARY:Jake Ash Band - Live at Typsy
DESCRIPTION:
URL:https://lfgtonight.com/event/jake-ash-band-live-at-typsy/
LOCATION:Typsy Tuna\, 276 Nantasket Ave\, Hull\, MA\, 02045\, United States
CATEGORIES:live music,Nightlife
ATTACH;FMTTYPE=image/jpeg:https://tectolabs-web-assets.s3.us-east-2.amazonaws.com/lfgtonight_com/2025/06/20184248/JAKE-ASH-BANK-July-12.jpg
END:VEVENT
BEGIN:VEVENT
DTSTART;TZID=America/New_York:20250618T180000
DTEND;TZID=America/New_York:20250618T210000
DTSTAMP:20260423T165436
CREATED:20250609T153812Z
LAST-MODIFIED:20250609T153812Z
UID:2234-1750269600-1750280400@lfgtonight.com
SUMMARY:Wharf Rat Wednesdays - Live Music with Joshua Metz
DESCRIPTION:June 11th – July 23rd (Wednesdays)
URL:https://lfgtonight.com/event/wharf-rat-wednesdays-live-music-with-joshua-metz-2/
LOCATION:Daddy’s Beach Club\, Hull\, MA
CATEGORIES:live music,Nightlife
ATTACH;FMTTYPE=image/jpeg:https://tectolabs-web-assets.s3.us-east-2.amazonaws.com/lfgtonight_com/2025/06/09153606/Daddys-june-11-to-july-23-or-8-joshua-metz.jpg
END:VEVENT
BEGIN:VEVENT
DTSTART;TZID=America/New_York:20250616T183000
DTEND;TZID=America/New_York:20250616T200000
DTSTAMP:20260423T165436
CREATED:20250321T182408Z
LAST-MODIFIED:20250415T145022Z
UID:1345-1750098600-1750104000@lfgtonight.com
SUMMARY:Beginner Country Line Dancing -Every Monday
DESCRIPTION:Join us every Monday night until the summer starts! Just a $5 contribution to the instructor.
URL:https://lfgtonight.com/event/beginner-country-line-dancing-every-monday-4/
LOCATION:Daddy’s Beach Club\, Hull\, MA
CATEGORIES:Family Fun,Nightlife
ATTACH;FMTTYPE=image/jpeg:https://tectolabs-web-assets.s3.us-east-2.amazonaws.com/lfgtonight_com/2025/03/21182210/line-dancing.jpg
END:VEVENT
BEGIN:VEVENT
DTSTART;TZID=America/New_York:20250614T210000
DTEND;TZID=America/New_York:20250615T003000
DTSTAMP:20260423T165436
CREATED:20250510T154033Z
LAST-MODIFIED:20250510T154033Z
UID:1860-1749934800-1749947400@lfgtonight.com
SUMMARY:Fil Pacino Trio - live
DESCRIPTION:
URL:https://lfgtonight.com/event/fil-pacino-trio-live/
LOCATION:The Parrot\, 1 Hull Shore Drive\, Hull\, MA\, 02045\, United States
CATEGORIES:live music,Nightlife
ATTACH;FMTTYPE=image/jpeg:https://tectolabs-web-assets.s3.us-east-2.amazonaws.com/lfgtonight_com/2024/12/11010059/the-parrot.jpg
END:VEVENT
BEGIN:VEVENT
DTSTART;TZID=America/New_York:20250614T190000
DTEND;TZID=America/New_York:20250614T213000
DTSTAMP:20260423T165436
CREATED:20250609T163146Z
LAST-MODIFIED:20250609T163146Z
UID:2181-1749927600-1749936600@lfgtonight.com
SUMMARY:Sing Along with Mel Stiller - Piano Night!
DESCRIPTION:Make your reservations now! 6/14\, 7-9:30\, singin and singin!
URL:https://lfgtonight.com/event/sing-along-with-mel-stiller-piano-night/
LOCATION:High Tide @ Nantasket Flatts\, 145 Nantasket avenue\, Hull\, MA\, 02045\, United States
CATEGORIES:Family Fun,live music,Nightlife
ATTACH;FMTTYPE=image/jpeg:https://tectolabs-web-assets.s3.us-east-2.amazonaws.com/lfgtonight_com/2025/06/07144737/SINGALONG.jpg
END:VEVENT
BEGIN:VEVENT
DTSTART;TZID=America/New_York:20250611T180000
DTEND;TZID=America/New_York:20250611T210000
DTSTAMP:20260423T165436
CREATED:20250609T153620Z
LAST-MODIFIED:20250609T153620Z
UID:2231-1749664800-1749675600@lfgtonight.com
SUMMARY:Wharf Rat Wednesdays - Live Music with Joshua Metz
DESCRIPTION:June 11th – July 23rd
URL:https://lfgtonight.com/event/wharf-rat-wednesdays-live-music-with-joshua-metz/
LOCATION:Daddy’s Beach Club\, Hull\, MA
CATEGORIES:live music,Nightlife
ATTACH;FMTTYPE=image/jpeg:https://tectolabs-web-assets.s3.us-east-2.amazonaws.com/lfgtonight_com/2025/06/09153606/Daddys-june-11-to-july-23-or-8-joshua-metz.jpg
END:VEVENT
BEGIN:VEVENT
DTSTART;TZID=America/New_York:20250609T183000
DTEND;TZID=America/New_York:20250609T200000
DTSTAMP:20260423T165436
CREATED:20250321T182258Z
LAST-MODIFIED:20250415T144947Z
UID:1344-1749493800-1749499200@lfgtonight.com
SUMMARY:Beginner Country Line Dancing -Every Monday
DESCRIPTION:Join us every Monday night until the summer starts! Just a $5 contribution to the instructor.
URL:https://lfgtonight.com/event/beginner-country-line-dancing-every-monday-2/
LOCATION:Daddy’s Beach Club\, Hull\, MA
CATEGORIES:Family Fun,Nightlife
ATTACH;FMTTYPE=image/jpeg:https://tectolabs-web-assets.s3.us-east-2.amazonaws.com/lfgtonight_com/2025/03/21182210/line-dancing.jpg
END:VEVENT
BEGIN:VEVENT
DTSTART;TZID=America/New_York:20250608T173000
DTEND;TZID=America/New_York:20250608T203000
DTSTAMP:20260423T165436
CREATED:20250606T141850Z
LAST-MODIFIED:20250607T144233Z
UID:2139-1749403800-1749414600@lfgtonight.com
SUMMARY:Live Music @ The Drift!
DESCRIPTION:Join us for live music at Drift\, with the best sunsets in town!  \nCANCELED DUE TO Weather (but restaurant open) This Saturday\, 6/7 @5:30pm we’ll have Sam Luke Chase performing!\nSunday\, 6/8 we have Chris Ballerini performing @5:30pm!  \nHours of operation:\nThursday & Friday // 4-9\nSaturday & Sunday // 12-9\n(Hours will extend in the weeks to follow!) \nLocated at:\n48 George Washington Boulevard\n*inside the stream boat wharf Marina\, across from the carousel!
URL:https://lfgtonight.com/event/live-music-the-drift/
LOCATION:the drift\, 48 George Washington Boulevard\, Hull\, MA\, 02045\, United States
CATEGORIES:live music,Nightlife
ATTACH;FMTTYPE=image/jpeg:https://tectolabs-web-assets.s3.us-east-2.amazonaws.com/lfgtonight_com/2025/06/05011221/0681348F-EEED-4637-A8A4-9B6286108150.jpeg
END:VEVENT
BEGIN:VEVENT
DTSTART;TZID=America/New_York:20250607T203000
DTEND;TZID=America/New_York:20250608T000000
DTSTAMP:20260423T165436
CREATED:20250606T164122Z
LAST-MODIFIED:20250606T164122Z
UID:2167-1749328200-1749340800@lfgtonight.com
SUMMARY:DJ Mathmatik @ Typsy Tuna
DESCRIPTION:We’ve got the music\, the food\, the cocktails\, and the vibes. See you at Tipsy Tuna 🍤🎸 (check website for exact time)
URL:https://lfgtonight.com/event/dj-mathmatik-typsy-tuna/
LOCATION:Typsy Tuna\, 276 Nantasket Ave\, Hull\, MA\, 02045\, United States
CATEGORIES:Nightlife
ATTACH;FMTTYPE=image/jpeg:https://tectolabs-web-assets.s3.us-east-2.amazonaws.com/lfgtonight_com/2025/06/06163726/Screenshot-2025-06-06-123647.jpg
END:VEVENT
BEGIN:VEVENT
DTSTART;TZID=America/New_York:20250606T210000
DTEND;TZID=America/New_York:20250607T003000
DTSTAMP:20260423T165436
CREATED:20250603T180008Z
LAST-MODIFIED:20250603T180008Z
UID:2110-1749243600-1749256200@lfgtonight.com
SUMMARY:Dukes Blues live at Daddy's
DESCRIPTION:
URL:https://lfgtonight.com/event/dukes-blues-live-at-daddys/
LOCATION:Daddy’s Beach Club\, Hull\, MA
CATEGORIES:live music,Nightlife
ATTACH;FMTTYPE=image/jpeg:https://tectolabs-web-assets.s3.us-east-2.amazonaws.com/lfgtonight_com/2025/06/03180002/Daddys-June.jpg
END:VEVENT
BEGIN:VEVENT
DTSTART;TZID=America/New_York:20250606T200000
DTEND;TZID=America/New_York:20250606T233000
DTSTAMP:20260423T165436
CREATED:20250606T163949Z
LAST-MODIFIED:20250606T165728Z
UID:2164-1749240000-1749252600@lfgtonight.com
SUMMARY:Those Four - Live at Typsy Tuna
DESCRIPTION:We’ve got the music\, the food\, the cocktails\, and the vibes. See you at Tipsy Tuna 🍤🎸(Check website for exact time)
URL:https://lfgtonight.com/event/those-four-live-at-typsy-tuna/
LOCATION:Typsy Tuna\, 276 Nantasket Ave\, Hull\, MA\, 02045\, United States
CATEGORIES:live music,Nightlife
ATTACH;FMTTYPE=image/jpeg:https://tectolabs-web-assets.s3.us-east-2.amazonaws.com/lfgtonight_com/2025/06/06163726/Screenshot-2025-06-06-123647.jpg
END:VEVENT
BEGIN:VEVENT
DTSTART;TZID=America/New_York:20250606T180000
DTEND;TZID=America/New_York:20250606T210000
DTSTAMP:20260423T165436
CREATED:20250501T132805Z
LAST-MODIFIED:20250606T162508Z
UID:1744-1749232800-1749243600@lfgtonight.com
SUMMARY:Fridays with Foley (Special sub tonight is Jimmy Peters!) - every Friday @ High Tide (Flatts)
DESCRIPTION:Friday night acoustic with Jimmy Peters\, with amazing BBQ and local favorites until 9pm
URL:https://lfgtonight.com/event/fridays-with-foley-every-friday-high-tide-flatts-5/
LOCATION:High Tide @ Nantasket Flatts\, 145 Nantasket avenue\, Hull\, MA\, 02045\, United States
CATEGORIES:live music,Nightlife
ATTACH;FMTTYPE=image/jpeg:https://tectolabs-web-assets.s3.us-east-2.amazonaws.com/lfgtonight_com/2025/05/06162321/High-tonight.jpg
END:VEVENT
BEGIN:VEVENT
DTSTART;TZID=America/New_York:20250602T183000
DTEND;TZID=America/New_York:20250602T200000
DTSTAMP:20260423T165436
CREATED:20250321T182219Z
LAST-MODIFIED:20250415T144920Z
UID:1343-1748889000-1748894400@lfgtonight.com
SUMMARY:Beginner Country Line Dancing -Every Monday
DESCRIPTION:Join us every Monday night until the summer starts! Just a $5 contribution to the instructor.
URL:https://lfgtonight.com/event/beginner-country-line-dancing-every-monday/
LOCATION:Daddy’s Beach Club\, Hull\, MA
CATEGORIES:Family Fun,Nightlife
ATTACH;FMTTYPE=image/jpeg:https://tectolabs-web-assets.s3.us-east-2.amazonaws.com/lfgtonight_com/2025/03/21182210/line-dancing.jpg
END:VEVENT
BEGIN:VEVENT
DTSTART;TZID=America/New_York:20250531T210000
DTEND;TZID=America/New_York:20250601T003000
DTSTAMP:20260423T165436
CREATED:20250510T153437Z
LAST-MODIFIED:20250510T153437Z
UID:1852-1748725200-1748737800@lfgtonight.com
SUMMARY:Rock Island Cowboys live
DESCRIPTION:
URL:https://lfgtonight.com/event/rock-island-cowboys-live/
LOCATION:The Parrot\, 1 Hull Shore Drive\, Hull\, MA\, 02045\, United States
CATEGORIES:live music,Nightlife
ATTACH;FMTTYPE=image/jpeg:https://tectolabs-web-assets.s3.us-east-2.amazonaws.com/lfgtonight_com/2024/12/11010059/the-parrot.jpg
END:VEVENT
BEGIN:VEVENT
DTSTART;TZID=America/New_York:20250530T193000
DTEND;TZID=America/New_York:20250530T213000
DTSTAMP:20260423T165436
CREATED:20250505T134031Z
LAST-MODIFIED:20250505T134031Z
UID:1801-1748633400-1748640600@lfgtonight.com
SUMMARY:Stand-Up Comedy @ The Local
DESCRIPTION:Bringing the comedy scene to the South Shore! Join us Friday\, May 30th @ 7:30pm for our first ever comedy show at LOCAL 02045 3rd Floor! Event information posted in image!!\nGET YOUR TICKETS NOW! See you there 😎
URL:https://lfgtonight.com/event/stand-up-comedy-the-local/
LOCATION:The Local 02045\, 2 A Street\, Hull\, MA\, 02045\, United States
CATEGORIES:Family Fun,Nightlife
END:VEVENT
BEGIN:VEVENT
DTSTART;TZID=America/New_York:20250525T213000
DTEND;TZID=America/New_York:20250526T003000
DTSTAMP:20260423T165436
CREATED:20250524T083444Z
LAST-MODIFIED:20250524T083444Z
UID:1969-1748208600-1748219400@lfgtonight.com
SUMMARY:Overserved Again - live @ Typsy Tuna
DESCRIPTION:
URL:https://lfgtonight.com/event/overserved-again-live-typsy-tuna/
LOCATION:Typsy Tuna\, 276 Nantasket Ave\, Hull\, MA\, 02045\, United States
CATEGORIES:live music,Nightlife
ATTACH;FMTTYPE=image/jpeg:https://tectolabs-web-assets.s3.us-east-2.amazonaws.com/lfgtonight_com/2025/05/24083011/IMG_20250524_102953.jpg
END:VEVENT
BEGIN:VEVENT
DTSTART;TZID=America/New_York:20250523T210000
DTEND;TZID=America/New_York:20250524T003000
DTSTAMP:20260423T165436
CREATED:20250510T162302Z
LAST-MODIFIED:20250510T162302Z
UID:1876-1748034000-1748046600@lfgtonight.com
SUMMARY:Clash Burn live
DESCRIPTION:
URL:https://lfgtonight.com/event/clash-burn-live/
LOCATION:Daddy’s Beach Club\, Hull\, MA
CATEGORIES:live music,Nightlife
END:VEVENT
END:VCALENDAR